BEGIN:VCALENDAR
VERSION:2.0
PRODID:-//Ravintola Panza - ECPv6.15.18//NONSGML v1.0//EN
CALSCALE:GREGORIAN
METHOD:PUBLISH
X-ORIGINAL-URL:https://www.ravintolapanza.fi
X-WR-CALDESC:Tapahtumat Ravintola Panza
REFRESH-INTERVAL;VALUE=DURATION:PT1H
X-Robots-Tag:noindex
X-PUBLISHED-TTL:PT1H
BEGIN:VTIMEZONE
TZID:Europe/Helsinki
BEGIN:DAYLIGHT
TZOFFSETFROM:+0200
TZOFFSETTO:+0300
TZNAME:EEST
DTSTART:20250330T010000
END:DAYLIGHT
BEGIN:STANDARD
TZOFFSETFROM:+0300
TZOFFSETTO:+0200
TZNAME:EET
DTSTART:20251026T010000
END:STANDARD
BEGIN:DAYLIGHT
TZOFFSETFROM:+0200
TZOFFSETTO:+0300
TZNAME:EEST
DTSTART:20260329T010000
END:DAYLIGHT
BEGIN:STANDARD
TZOFFSETFROM:+0300
TZOFFSETTO:+0200
TZNAME:EET
DTSTART:20261025T010000
END:STANDARD
BEGIN:DAYLIGHT
TZOFFSETFROM:+0200
TZOFFSETTO:+0300
TZNAME:EEST
DTSTART:20270328T010000
END:DAYLIGHT
BEGIN:STANDARD
TZOFFSETFROM:+0300
TZOFFSETTO:+0200
TZNAME:EET
DTSTART:20271031T010000
END:STANDARD
END:VTIMEZONE
BEGIN:VEVENT
DTSTART;TZID=Europe/Helsinki:20260605T180000
DTEND;TZID=Europe/Helsinki:20260605T230000
DTSTAMP:20260422T185952
CREATED:20260401T165734Z
LAST-MODIFIED:20260401T165734Z
UID:3130-1780682400-1780700400@www.ravintolapanza.fi
SUMMARY:DJ RR
DESCRIPTION:Funkkaa Taikka Kuole DJ:t Panzassa! 100% vinyl. \nVinyylit pyörivät Panzan levylautasella viikonloppuiltaisin klo 18-23 ja tarvittaessa pidempäänkin. Joka viikonloppu vaihtuvat DJ:t tuovat oman musiikkiselektionsa mausteeksi Panzan tunnelmaan.
URL:https://www.ravintolapanza.fi/tapahtuma/dj-rr-57/
LOCATION:Ravintola Panza\, Käsityökatu 19\, Kuopio\, 70100\, Suomi
ATTACH;FMTTYPE=image/jpeg:https://www.ravintolapanza.fi/wp-content/uploads/2026/04/BANNERIUUSI.jpg
ORGANIZER;CN="Funkkaa Taikka Kuole":MAILTO:info@funkkaataikkakuole.com
END:VEVENT
BEGIN:VEVENT
DTSTART;TZID=Europe/Helsinki:20260606T180000
DTEND;TZID=Europe/Helsinki:20260606T230000
DTSTAMP:20260422T185952
CREATED:20260401T165805Z
LAST-MODIFIED:20260401T165805Z
UID:3132-1780768800-1780786800@www.ravintolapanza.fi
SUMMARY:DJ RR
DESCRIPTION:Funkkaa Taikka Kuole DJ:t Panzassa! 100% vinyl. \nVinyylit pyörivät Panzan levylautasella viikonloppuiltaisin klo 18-23 ja tarvittaessa pidempäänkin. Joka viikonloppu vaihtuvat DJ:t tuovat oman musiikkiselektionsa mausteeksi Panzan tunnelmaan.
URL:https://www.ravintolapanza.fi/tapahtuma/dj-rr-58/
LOCATION:Ravintola Panza\, Käsityökatu 19\, Kuopio\, 70100\, Suomi
ATTACH;FMTTYPE=image/jpeg:https://www.ravintolapanza.fi/wp-content/uploads/2026/04/BANNERIUUSI.jpg
ORGANIZER;CN="Funkkaa Taikka Kuole":MAILTO:info@funkkaataikkakuole.com
END:VEVENT
BEGIN:VEVENT
DTSTART;TZID=Europe/Helsinki:20260612T180000
DTEND;TZID=Europe/Helsinki:20260612T230000
DTSTAMP:20260422T185952
CREATED:20260401T170218Z
LAST-MODIFIED:20260401T170218Z
UID:3134-1781287200-1781305200@www.ravintolapanza.fi
SUMMARY:DJ JUICY L
DESCRIPTION:Funkkaa Taikka Kuole DJ:t Panzassa! 100% vinyl. \nVinyylit pyörivät Panzan levylautasella viikonloppuiltaisin klo 18-23 ja tarvittaessa pidempäänkin. Joka viikonloppu vaihtuvat DJ:t tuovat oman musiikkiselektionsa mausteeksi Panzan tunnelmaan.
URL:https://www.ravintolapanza.fi/tapahtuma/dj-juicy-l-38/
LOCATION:Ravintola Panza\, Käsityökatu 19\, Kuopio\, 70100\, Suomi
ATTACH;FMTTYPE=image/jpeg:https://www.ravintolapanza.fi/wp-content/uploads/2026/04/BANNERIUUSI.jpg
ORGANIZER;CN="Funkkaa Taikka Kuole":MAILTO:info@funkkaataikkakuole.com
END:VEVENT
BEGIN:VEVENT
DTSTART;TZID=Europe/Helsinki:20260613T180000
DTEND;TZID=Europe/Helsinki:20260613T230000
DTSTAMP:20260422T185952
CREATED:20260401T170247Z
LAST-MODIFIED:20260401T170247Z
UID:3136-1781373600-1781391600@www.ravintolapanza.fi
SUMMARY:DJ JUICY L
DESCRIPTION:Funkkaa Taikka Kuole DJ:t Panzassa! 100% vinyl. \nVinyylit pyörivät Panzan levylautasella viikonloppuiltaisin klo 18-23 ja tarvittaessa pidempäänkin. Joka viikonloppu vaihtuvat DJ:t tuovat oman musiikkiselektionsa mausteeksi Panzan tunnelmaan.
URL:https://www.ravintolapanza.fi/tapahtuma/dj-juicy-l-39/
LOCATION:Ravintola Panza\, Käsityökatu 19\, Kuopio\, 70100\, Suomi
ATTACH;FMTTYPE=image/jpeg:https://www.ravintolapanza.fi/wp-content/uploads/2026/04/BANNERIUUSI.jpg
ORGANIZER;CN="Funkkaa Taikka Kuole":MAILTO:info@funkkaataikkakuole.com
END:VEVENT
BEGIN:VEVENT
DTSTART;TZID=Europe/Helsinki:20260626T180000
DTEND;TZID=Europe/Helsinki:20260626T230000
DTSTAMP:20260422T185952
CREATED:20260401T170344Z
LAST-MODIFIED:20260401T170344Z
UID:3138-1782496800-1782514800@www.ravintolapanza.fi
SUMMARY:DJ OK-M
DESCRIPTION:Funkkaa Taikka Kuole DJ:t Panzassa! 100% vinyl. \nVinyylit pyörivät Panzan levylautasella viikonloppuiltaisin klo 18-23 ja tarvittaessa pidempäänkin. Joka viikonloppu vaihtuvat DJ:t tuovat oman musiikkiselektionsa mausteeksi Panzan tunnelmaan.
URL:https://www.ravintolapanza.fi/tapahtuma/dj-ok-m-59/
LOCATION:Ravintola Panza\, Käsityökatu 19\, Kuopio\, 70100\, Suomi
ATTACH;FMTTYPE=image/jpeg:https://www.ravintolapanza.fi/wp-content/uploads/2026/04/BANNERIUUSI.jpg
ORGANIZER;CN="Funkkaa Taikka Kuole":MAILTO:info@funkkaataikkakuole.com
END:VEVENT
BEGIN:VEVENT
DTSTART;TZID=Europe/Helsinki:20260627T180000
DTEND;TZID=Europe/Helsinki:20260627T230000
DTSTAMP:20260422T185952
CREATED:20260401T170419Z
LAST-MODIFIED:20260401T170419Z
UID:3140-1782583200-1782601200@www.ravintolapanza.fi
SUMMARY:DJ OK-M
DESCRIPTION:Funkkaa Taikka Kuole DJ:t Panzassa! 100% vinyl. \nVinyylit pyörivät Panzan levylautasella viikonloppuiltaisin klo 18-23 ja tarvittaessa pidempäänkin. Joka viikonloppu vaihtuvat DJ:t tuovat oman musiikkiselektionsa mausteeksi Panzan tunnelmaan.
URL:https://www.ravintolapanza.fi/tapahtuma/dj-ok-m-60/
LOCATION:Ravintola Panza\, Käsityökatu 19\, Kuopio\, 70100\, Suomi
ATTACH;FMTTYPE=image/jpeg:https://www.ravintolapanza.fi/wp-content/uploads/2026/04/BANNERIUUSI.jpg
ORGANIZER;CN="Funkkaa Taikka Kuole":MAILTO:info@funkkaataikkakuole.com
END:VEVENT
END:VCALENDAR