BEGIN:VCALENDAR
VERSION:2.0
PRODID:-//Ravintola Panza - ECPv6.15.18//NONSGML v1.0//EN
CALSCALE:GREGORIAN
METHOD:PUBLISH
X-WR-CALNAME:Ravintola Panza
X-ORIGINAL-URL:https://www.ravintolapanza.fi
X-WR-CALDESC:Tapahtumat Ravintola Panza
REFRESH-INTERVAL;VALUE=DURATION:PT1H
X-Robots-Tag:noindex
X-PUBLISHED-TTL:PT1H
BEGIN:VTIMEZONE
TZID:Europe/Helsinki
BEGIN:DAYLIGHT
TZOFFSETFROM:+0200
TZOFFSETTO:+0300
TZNAME:EEST
DTSTART:20230326T010000
END:DAYLIGHT
BEGIN:STANDARD
TZOFFSETFROM:+0300
TZOFFSETTO:+0200
TZNAME:EET
DTSTART:20231029T010000
END:STANDARD
BEGIN:DAYLIGHT
TZOFFSETFROM:+0200
TZOFFSETTO:+0300
TZNAME:EEST
DTSTART:20240331T010000
END:DAYLIGHT
BEGIN:STANDARD
TZOFFSETFROM:+0300
TZOFFSETTO:+0200
TZNAME:EET
DTSTART:20241027T010000
END:STANDARD
BEGIN:DAYLIGHT
TZOFFSETFROM:+0200
TZOFFSETTO:+0300
TZNAME:EEST
DTSTART:20250330T010000
END:DAYLIGHT
BEGIN:STANDARD
TZOFFSETFROM:+0300
TZOFFSETTO:+0200
TZNAME:EET
DTSTART:20251026T010000
END:STANDARD
END:VTIMEZONE
BEGIN:VEVENT
DTSTART;TZID=Europe/Helsinki:20241129T180000
DTEND;TZID=Europe/Helsinki:20241129T230000
DTSTAMP:20260420T034041
CREATED:20240929T171204Z
LAST-MODIFIED:20241116T203441Z
UID:2403-1732903200-1732921200@www.ravintolapanza.fi
SUMMARY:DJ LIESITUULETIN
DESCRIPTION:Funkkaa Taikka Kuole DJ:t Panzassa! 100% vinyl.
URL:https://www.ravintolapanza.fi/tapahtuma/dj-liesituuletin-2/
LOCATION:Ravintola Panza\, Käsityökatu 19\, Kuopio\, 70100\, Suomi
ATTACH;FMTTYPE=image/jpeg:https://www.ravintolapanza.fi/wp-content/uploads/2024/09/IMG-20240927-WA0001.jpg
ORGANIZER;CN="Funkkaa Taikka Kuole":MAILTO:info@funkkaataikkakuole.com
END:VEVENT
BEGIN:VEVENT
DTSTART;TZID=Europe/Helsinki:20241129T110000
DTEND;TZID=Europe/Helsinki:20241129T133000
DTSTAMP:20260420T034041
CREATED:20241111T160748Z
LAST-MODIFIED:20241116T203411Z
UID:2525-1732878000-1732887000@www.ravintolapanza.fi
SUMMARY:Panzan tortilla buffa -lounas
DESCRIPTION:Kauan odotettu Panzan tortilla buffet tekee vihdoin paluun! \nSisältää lihan\, vegen\, salaattipöydän sekä tortillat\, jotka voit\nkasata itse buffetpöydästämme. Myös pieni jälkkäri ja kahvi tai tee. \nLounas klo 11-13:30\, hinta 15€ \nPe 22.11.\, pe 29.11.\, to 5.12.\, pe 13.12. ja pe 20.12. \n 
URL:https://www.ravintolapanza.fi/tapahtuma/panzan-tortilla-buffa-lounas-2/
LOCATION:Ravintola Panza\, Käsityökatu 19\, Kuopio\, 70100\, Suomi
ATTACH;FMTTYPE=image/jpeg:https://www.ravintolapanza.fi/wp-content/uploads/2024/11/fb-event-perjantai-buffa-netti.jpg
ORGANIZER;CN="Panza":MAILTO:info@ravintolapanza.fi
END:VEVENT
BEGIN:VEVENT
DTSTART;TZID=Europe/Helsinki:20241123T180000
DTEND;TZID=Europe/Helsinki:20241123T230000
DTSTAMP:20260420T034041
CREATED:20240929T171126Z
LAST-MODIFIED:20241116T203356Z
UID:2401-1732384800-1732402800@www.ravintolapanza.fi
SUMMARY:DJ JUICY L
DESCRIPTION:Funkkaa Taikka Kuole DJ:t Panzassa! 100% vinyl.
URL:https://www.ravintolapanza.fi/tapahtuma/dj-juicy-l-10/
LOCATION:Ravintola Panza\, Käsityökatu 19\, Kuopio\, 70100\, Suomi
ATTACH;FMTTYPE=image/jpeg:https://www.ravintolapanza.fi/wp-content/uploads/2024/09/IMG-20240927-WA0001.jpg
ORGANIZER;CN="Funkkaa Taikka Kuole":MAILTO:info@funkkaataikkakuole.com
END:VEVENT
BEGIN:VEVENT
DTSTART;TZID=Europe/Helsinki:20241122T180000
DTEND;TZID=Europe/Helsinki:20241122T230000
DTSTAMP:20260420T034041
CREATED:20240929T171052Z
LAST-MODIFIED:20241116T210203Z
UID:2399-1732298400-1732316400@www.ravintolapanza.fi
SUMMARY:DJ JUICY L
DESCRIPTION:Funkkaa Taikka Kuole DJ:t Panzassa! 100% vinyl.
URL:https://www.ravintolapanza.fi/tapahtuma/dj-juicy-l-9/
LOCATION:Ravintola Panza\, Käsityökatu 19\, Kuopio\, 70100\, Suomi
ATTACH;FMTTYPE=image/jpeg:https://www.ravintolapanza.fi/wp-content/uploads/2024/09/IMG-20240927-WA0001.jpg
ORGANIZER;CN="Funkkaa Taikka Kuole":MAILTO:info@funkkaataikkakuole.com
END:VEVENT
BEGIN:VEVENT
DTSTART;TZID=Europe/Helsinki:20241122T110000
DTEND;TZID=Europe/Helsinki:20241122T133000
DTSTAMP:20260420T034041
CREATED:20241111T160502Z
LAST-MODIFIED:20241116T203125Z
UID:2522-1732273200-1732282200@www.ravintolapanza.fi
SUMMARY:Panzan tortilla buffa -lounas
DESCRIPTION:Kauan odotettu Panzan tortilla buffet tekee vihdoin paluun! \nSisältää lihan\, vegen\, salaattipöydän sekä tortillat\, jotka voit\nkasata itse buffetpöydästämme. Myös pieni jälkkäri ja kahvi tai tee. \nLounas klo 11-13:30\, hinta 15€ \nPe 22.11.\, pe 29.11.\, to 5.12.\, pe 13.12. ja pe 20.12. \n 
URL:https://www.ravintolapanza.fi/tapahtuma/panzan-tortilla-buffa-lounas/
LOCATION:Ravintola Panza\, Käsityökatu 19\, Kuopio\, 70100\, Suomi
ATTACH;FMTTYPE=image/jpeg:https://www.ravintolapanza.fi/wp-content/uploads/2024/11/fb-event-perjantai-buffa-netti.jpg
ORGANIZER;CN="Panza":MAILTO:info@ravintolapanza.fi
END:VEVENT
BEGIN:VEVENT
DTSTART;TZID=Europe/Helsinki:20241116T180000
DTEND;TZID=Europe/Helsinki:20241116T230000
DTSTAMP:20260420T034041
CREATED:20240929T171009Z
LAST-MODIFIED:20241116T203108Z
UID:2397-1731780000-1731798000@www.ravintolapanza.fi
SUMMARY:DJ OK-M
DESCRIPTION:Funkkaa Taikka Kuole DJ:t Panzassa! 100% vinyl.
URL:https://www.ravintolapanza.fi/tapahtuma/dj-ok-m-26/
LOCATION:Ravintola Panza\, Käsityökatu 19\, Kuopio\, 70100\, Suomi
ATTACH;FMTTYPE=image/jpeg:https://www.ravintolapanza.fi/wp-content/uploads/2024/09/IMG-20240927-WA0001.jpg
ORGANIZER;CN="Funkkaa Taikka Kuole":MAILTO:info@funkkaataikkakuole.com
END:VEVENT
BEGIN:VEVENT
DTSTART;TZID=Europe/Helsinki:20241115T180000
DTEND;TZID=Europe/Helsinki:20241115T230000
DTSTAMP:20260420T034041
CREATED:20240929T170929Z
LAST-MODIFIED:20241116T203049Z
UID:2395-1731693600-1731711600@www.ravintolapanza.fi
SUMMARY:DJ OK-M
DESCRIPTION:Funkkaa Taikka Kuole DJ:t Panzassa! 100% vinyl.
URL:https://www.ravintolapanza.fi/tapahtuma/dj-ok-m-25/
LOCATION:Ravintola Panza\, Käsityökatu 19\, Kuopio\, 70100\, Suomi
ATTACH;FMTTYPE=image/jpeg:https://www.ravintolapanza.fi/wp-content/uploads/2024/09/IMG-20240927-WA0001.jpg
ORGANIZER;CN="Funkkaa Taikka Kuole":MAILTO:info@funkkaataikkakuole.com
END:VEVENT
BEGIN:VEVENT
DTSTART;TZID=Europe/Helsinki:20241110T120000
DTEND;TZID=Europe/Helsinki:20241110T160000
DTSTAMP:20260420T034041
CREATED:20241029T182407Z
LAST-MODIFIED:20241029T193800Z
UID:2484-1731240000-1731254400@www.ravintolapanza.fi
SUMMARY:Isänpäivän buffa 10.11.
DESCRIPTION:Isänpäivän buffa sunnuntaina 10.11.\nEnsimmäinen kattaus klo 12\nToinen kattaus klo 14 \nAikuiset 39€\nLapset (5-12v) 12€ \nVaraa pöytä: Table Online tai 044 7060800 \nIsänpäivä menu\nNachoja ja salsaa\nSalsa rojaa (M\, G)\nSalsa verdeä (M\, G)\nChili creme fraichea (L\, G) \nVihersalaattia & Vinaigrettea (M\, G)\nEsquites (Meksikolaista maissisalaattia) (L\, G)\nTuoreita hedelmiä \nRiisiä ja papuja (M\, G)\nPozole roja de polloa (kanapataa)(M\, G)\nMeksikolaista sienipataa (M\, G)\nPossun ribsejä (M\, G)\nPanzan hotsoosia (M\, G) \nSuklaabrownieta ja kanelikinuskia (L\, G)\nValkosuklaa-mustikkamoussea (G) \nLapsille\nRanskalaisia ja kanaa (M\, G) Tai\nRanskalaisia ja rapeaa kalaa (M\, G) \nTervetuloa! \n 
URL:https://www.ravintolapanza.fi/tapahtuma/isanpaivan-buffa-10-11/
LOCATION:Ravintola Panza\, Käsityökatu 19\, Kuopio\, 70100\, Suomi
ATTACH;FMTTYPE=image/jpeg:https://www.ravintolapanza.fi/wp-content/uploads/2024/10/PANZA_isan-fb-cover.jpg
ORGANIZER;CN="Panza":MAILTO:info@ravintolapanza.fi
END:VEVENT
BEGIN:VEVENT
DTSTART;TZID=Europe/Helsinki:20241109T180000
DTEND;TZID=Europe/Helsinki:20241109T230000
DTSTAMP:20260420T034041
CREATED:20240929T170900Z
LAST-MODIFIED:20240929T170900Z
UID:2392-1731175200-1731193200@www.ravintolapanza.fi
SUMMARY:DJ JONIVELI
DESCRIPTION:Funkkaa Taikka Kuole DJ:t Panzassa! 100% vinyl.
URL:https://www.ravintolapanza.fi/tapahtuma/dj-joniveli-4/
LOCATION:Ravintola Panza\, Käsityökatu 19\, Kuopio\, 70100\, Suomi
ATTACH;FMTTYPE=image/jpeg:https://www.ravintolapanza.fi/wp-content/uploads/2024/09/IMG-20240927-WA0001.jpg
ORGANIZER;CN="Funkkaa Taikka Kuole":MAILTO:info@funkkaataikkakuole.com
END:VEVENT
BEGIN:VEVENT
DTSTART;TZID=Europe/Helsinki:20241108T180000
DTEND;TZID=Europe/Helsinki:20241108T230000
DTSTAMP:20260420T034041
CREATED:20240929T170835Z
LAST-MODIFIED:20240929T170835Z
UID:2391-1731088800-1731106800@www.ravintolapanza.fi
SUMMARY:DJ JONIVELI
DESCRIPTION:Funkkaa Taikka Kuole DJ:t Panzassa! 100% vinyl.
URL:https://www.ravintolapanza.fi/tapahtuma/dj-joniveli-3/
LOCATION:Ravintola Panza\, Käsityökatu 19\, Kuopio\, 70100\, Suomi
ATTACH;FMTTYPE=image/jpeg:https://www.ravintolapanza.fi/wp-content/uploads/2024/09/IMG-20240927-WA0001.jpg
ORGANIZER;CN="Funkkaa Taikka Kuole":MAILTO:info@funkkaataikkakuole.com
END:VEVENT
BEGIN:VEVENT
DTSTART;TZID=Europe/Helsinki:20241102T180000
DTEND;TZID=Europe/Helsinki:20241102T230000
DTSTAMP:20260420T034041
CREATED:20240929T170753Z
LAST-MODIFIED:20240929T170753Z
UID:2389-1730570400-1730588400@www.ravintolapanza.fi
SUMMARY:DJ RR
DESCRIPTION:Funkkaa Taikka Kuole DJ:t Panzassa! 100% vinyl.
URL:https://www.ravintolapanza.fi/tapahtuma/dj-rr-28/
LOCATION:Ravintola Panza\, Käsityökatu 19\, Kuopio\, 70100\, Suomi
ATTACH;FMTTYPE=image/jpeg:https://www.ravintolapanza.fi/wp-content/uploads/2024/09/IMG-20240927-WA0001.jpg
ORGANIZER;CN="Funkkaa Taikka Kuole":MAILTO:info@funkkaataikkakuole.com
END:VEVENT
BEGIN:VEVENT
DTSTART;TZID=Europe/Helsinki:20241101T180000
DTEND;TZID=Europe/Helsinki:20241101T230000
DTSTAMP:20260420T034041
CREATED:20240929T170654Z
LAST-MODIFIED:20240929T170654Z
UID:2386-1730484000-1730502000@www.ravintolapanza.fi
SUMMARY:DJ RR
DESCRIPTION:Funkkaa Taikka Kuole DJ:t Panzassa! 100% vinyl.
URL:https://www.ravintolapanza.fi/tapahtuma/dj-rr-27/
LOCATION:Ravintola Panza\, Käsityökatu 19\, Kuopio\, 70100\, Suomi
ATTACH;FMTTYPE=image/jpeg:https://www.ravintolapanza.fi/wp-content/uploads/2024/09/IMG-20240927-WA0001.jpg
ORGANIZER;CN="Funkkaa Taikka Kuole":MAILTO:info@funkkaataikkakuole.com
END:VEVENT
BEGIN:VEVENT
DTSTART;TZID=Europe/Helsinki:20241026T180000
DTEND;TZID=Europe/Helsinki:20241026T230000
DTSTAMP:20260420T034041
CREATED:20240929T170614Z
LAST-MODIFIED:20240929T170725Z
UID:2382-1729965600-1729983600@www.ravintolapanza.fi
SUMMARY:DJ JUICY L
DESCRIPTION:Funkkaa Taikka Kuole DJ:t Panzassa! 100% vinyl.
URL:https://www.ravintolapanza.fi/tapahtuma/dj-kk-7/
LOCATION:Ravintola Panza\, Käsityökatu 19\, Kuopio\, 70100\, Suomi
ATTACH;FMTTYPE=image/jpeg:https://www.ravintolapanza.fi/wp-content/uploads/2024/09/IMG-20240927-WA0001.jpg
ORGANIZER;CN="Funkkaa Taikka Kuole":MAILTO:info@funkkaataikkakuole.com
END:VEVENT
BEGIN:VEVENT
DTSTART;TZID=Europe/Helsinki:20241025T180000
DTEND;TZID=Europe/Helsinki:20241025T230000
DTSTAMP:20260420T034041
CREATED:20240929T170555Z
LAST-MODIFIED:20240929T170555Z
UID:2381-1729879200-1729897200@www.ravintolapanza.fi
SUMMARY:DJ JUICY L
DESCRIPTION:Funkkaa Taikka Kuole DJ:t Panzassa! 100% vinyl.
URL:https://www.ravintolapanza.fi/tapahtuma/dj-juicy-l-8/
LOCATION:Ravintola Panza\, Käsityökatu 19\, Kuopio\, 70100\, Suomi
ATTACH;FMTTYPE=image/jpeg:https://www.ravintolapanza.fi/wp-content/uploads/2024/09/IMG-20240927-WA0001.jpg
ORGANIZER;CN="Funkkaa Taikka Kuole":MAILTO:info@funkkaataikkakuole.com
END:VEVENT
BEGIN:VEVENT
DTSTART;TZID=Europe/Helsinki:20241019T180000
DTEND;TZID=Europe/Helsinki:20241019T230000
DTSTAMP:20260420T034041
CREATED:20240929T170505Z
LAST-MODIFIED:20240929T170505Z
UID:2380-1729360800-1729378800@www.ravintolapanza.fi
SUMMARY:DJ KK
DESCRIPTION:Funkkaa Taikka Kuole DJ:t Panzassa! 100% vinyl.
URL:https://www.ravintolapanza.fi/tapahtuma/dj-kk-6/
LOCATION:Ravintola Panza\, Käsityökatu 19\, Kuopio\, 70100\, Suomi
ATTACH;FMTTYPE=image/jpeg:https://www.ravintolapanza.fi/wp-content/uploads/2024/09/IMG-20240927-WA0001.jpg
ORGANIZER;CN="Funkkaa Taikka Kuole":MAILTO:info@funkkaataikkakuole.com
END:VEVENT
BEGIN:VEVENT
DTSTART;TZID=Europe/Helsinki:20241018T180000
DTEND;TZID=Europe/Helsinki:20241018T230000
DTSTAMP:20260420T034041
CREATED:20240929T170343Z
LAST-MODIFIED:20240929T170343Z
UID:2378-1729274400-1729292400@www.ravintolapanza.fi
SUMMARY:DJ KK
DESCRIPTION:Funkkaa Taikka Kuole DJ:t Panzassa! 100% vinyl.
URL:https://www.ravintolapanza.fi/tapahtuma/dj-kk-5/
LOCATION:Ravintola Panza\, Käsityökatu 19\, Kuopio\, 70100\, Suomi
ATTACH;FMTTYPE=image/jpeg:https://www.ravintolapanza.fi/wp-content/uploads/2024/09/IMG-20240927-WA0001.jpg
ORGANIZER;CN="Funkkaa Taikka Kuole":MAILTO:info@funkkaataikkakuole.com
END:VEVENT
BEGIN:VEVENT
DTSTART;TZID=Europe/Helsinki:20241012T180000
DTEND;TZID=Europe/Helsinki:20241012T230000
DTSTAMP:20260420T034041
CREATED:20240929T170309Z
LAST-MODIFIED:20240929T170309Z
UID:2376-1728756000-1728774000@www.ravintolapanza.fi
SUMMARY:DJ OK-M
DESCRIPTION:Funkkaa Taikka Kuole DJ:t Panzassa! 100% vinyl.
URL:https://www.ravintolapanza.fi/tapahtuma/dj-ok-m-24/
LOCATION:Ravintola Panza\, Käsityökatu 19\, Kuopio\, 70100\, Suomi
ATTACH;FMTTYPE=image/jpeg:https://www.ravintolapanza.fi/wp-content/uploads/2024/09/IMG-20240927-WA0001.jpg
ORGANIZER;CN="Funkkaa Taikka Kuole":MAILTO:info@funkkaataikkakuole.com
END:VEVENT
BEGIN:VEVENT
DTSTART;TZID=Europe/Helsinki:20241011T180000
DTEND;TZID=Europe/Helsinki:20241011T230000
DTSTAMP:20260420T034041
CREATED:20240929T170233Z
LAST-MODIFIED:20240929T170233Z
UID:2374-1728669600-1728687600@www.ravintolapanza.fi
SUMMARY:DJ OK-M
DESCRIPTION:Funkkaa Taikka Kuole DJ:t Panzassa! 100% vinyl.
URL:https://www.ravintolapanza.fi/tapahtuma/dj-ok-m-23/
LOCATION:Ravintola Panza\, Käsityökatu 19\, Kuopio\, 70100\, Suomi
ATTACH;FMTTYPE=image/jpeg:https://www.ravintolapanza.fi/wp-content/uploads/2024/09/IMG-20240927-WA0001.jpg
ORGANIZER;CN="Funkkaa Taikka Kuole":MAILTO:info@funkkaataikkakuole.com
END:VEVENT
BEGIN:VEVENT
DTSTART;TZID=Europe/Helsinki:20241005T180000
DTEND;TZID=Europe/Helsinki:20241005T230000
DTSTAMP:20260420T034041
CREATED:20240929T170148Z
LAST-MODIFIED:20240929T170148Z
UID:2372-1728151200-1728169200@www.ravintolapanza.fi
SUMMARY:DJ RR
DESCRIPTION:Funkkaa Taikka Kuole DJ:t Panzassa! 100% vinyl.
URL:https://www.ravintolapanza.fi/tapahtuma/dj-rr-26/
LOCATION:Ravintola Panza\, Käsityökatu 19\, Kuopio\, 70100\, Suomi
ATTACH;FMTTYPE=image/jpeg:https://www.ravintolapanza.fi/wp-content/uploads/2024/09/IMG-20240927-WA0001.jpg
ORGANIZER;CN="Funkkaa Taikka Kuole":MAILTO:info@funkkaataikkakuole.com
END:VEVENT
BEGIN:VEVENT
DTSTART;TZID=Europe/Helsinki:20241004T180000
DTEND;TZID=Europe/Helsinki:20241004T230000
DTSTAMP:20260420T034041
CREATED:20240929T170105Z
LAST-MODIFIED:20240929T170105Z
UID:2369-1728064800-1728082800@www.ravintolapanza.fi
SUMMARY:DJ RR
DESCRIPTION:Funkkaa Taikka Kuole DJ:t Panzassa! 100% vinyl.
URL:https://www.ravintolapanza.fi/tapahtuma/dj-rr-25/
LOCATION:Ravintola Panza\, Käsityökatu 19\, Kuopio\, 70100\, Suomi
ATTACH;FMTTYPE=image/jpeg:https://www.ravintolapanza.fi/wp-content/uploads/2024/09/IMG-20240927-WA0001.jpg
ORGANIZER;CN="Funkkaa Taikka Kuole":MAILTO:info@funkkaataikkakuole.com
END:VEVENT
BEGIN:VEVENT
DTSTART;TZID=Europe/Helsinki:20240928T180000
DTEND;TZID=Europe/Helsinki:20240928T230000
DTSTAMP:20260420T034041
CREATED:20240701T103935Z
LAST-MODIFIED:20240701T103935Z
UID:2323-1727546400-1727564400@www.ravintolapanza.fi
SUMMARY:DJ Juicy L
DESCRIPTION:Funkkaa Taikka Kuole DJ:t Panzassa! 100% vinyl.
URL:https://www.ravintolapanza.fi/tapahtuma/dj-juicy-l-7/
LOCATION:Ravintola Panza\, Käsityökatu 19\, Kuopio\, 70100\, Suomi
ATTACH;FMTTYPE=image/jpeg:https://www.ravintolapanza.fi/wp-content/uploads/2024/06/PANZA_DJ_heina-syys-24-fb.jpg
ORGANIZER;CN="Funkkaa Taikka Kuole":MAILTO:info@funkkaataikkakuole.com
END:VEVENT
BEGIN:VEVENT
DTSTART;TZID=Europe/Helsinki:20240927T180000
DTEND;TZID=Europe/Helsinki:20240927T230000
DTSTAMP:20260420T034041
CREATED:20240701T103919Z
LAST-MODIFIED:20240701T103919Z
UID:2321-1727460000-1727478000@www.ravintolapanza.fi
SUMMARY:DJ Juicy L
DESCRIPTION:Funkkaa Taikka Kuole DJ:t Panzassa! 100% vinyl.
URL:https://www.ravintolapanza.fi/tapahtuma/dj-juicy-l-6/
LOCATION:Ravintola Panza\, Käsityökatu 19\, Kuopio\, 70100\, Suomi
ATTACH;FMTTYPE=image/jpeg:https://www.ravintolapanza.fi/wp-content/uploads/2024/06/PANZA_DJ_heina-syys-24-fb.jpg
ORGANIZER;CN="Funkkaa Taikka Kuole":MAILTO:info@funkkaataikkakuole.com
END:VEVENT
BEGIN:VEVENT
DTSTART;TZID=Europe/Helsinki:20240921T180000
DTEND;TZID=Europe/Helsinki:20240921T230000
DTSTAMP:20260420T034041
CREATED:20240701T103844Z
LAST-MODIFIED:20240701T103844Z
UID:2319-1726941600-1726959600@www.ravintolapanza.fi
SUMMARY:DJ Hilehile
DESCRIPTION:Funkkaa Taikka Kuole DJ:t Panzassa! 100% vinyl.
URL:https://www.ravintolapanza.fi/tapahtuma/dj-hilehile-2/
LOCATION:Ravintola Panza\, Käsityökatu 19\, Kuopio\, 70100\, Suomi
ATTACH;FMTTYPE=image/jpeg:https://www.ravintolapanza.fi/wp-content/uploads/2024/06/PANZA_DJ_heina-syys-24-fb.jpg
ORGANIZER;CN="Funkkaa Taikka Kuole":MAILTO:info@funkkaataikkakuole.com
END:VEVENT
BEGIN:VEVENT
DTSTART;TZID=Europe/Helsinki:20240920T180000
DTEND;TZID=Europe/Helsinki:20240920T230000
DTSTAMP:20260420T034041
CREATED:20240701T103819Z
LAST-MODIFIED:20240701T103819Z
UID:2317-1726855200-1726873200@www.ravintolapanza.fi
SUMMARY:DJ Hilehile
DESCRIPTION:Funkkaa Taikka Kuole DJ:t Panzassa! 100% vinyl.
URL:https://www.ravintolapanza.fi/tapahtuma/dj-hilehile/
LOCATION:Ravintola Panza\, Käsityökatu 19\, Kuopio\, 70100\, Suomi
ATTACH;FMTTYPE=image/jpeg:https://www.ravintolapanza.fi/wp-content/uploads/2024/06/PANZA_DJ_heina-syys-24-fb.jpg
ORGANIZER;CN="Funkkaa Taikka Kuole":MAILTO:info@funkkaataikkakuole.com
END:VEVENT
BEGIN:VEVENT
DTSTART;TZID=Europe/Helsinki:20240914T235900
DTEND;TZID=Europe/Helsinki:20240915T013000
DTSTAMP:20260420T034041
CREATED:20240709T112018Z
LAST-MODIFIED:20240909T145349Z
UID:2335-1726358340-1726363800@www.ravintolapanza.fi
SUMMARY:¡Cóctel de baile callejero! - keskiyön katutanssijamit
DESCRIPTION:¡Cóctel de baile callejero! \nKeskiyön katutanssijamit Panzassa 27.7.\, 31.8.\, ja 14.9. \n⏰ Tanssilattia klo 23 alkaen\n💥 All styles battle klo 23:30 \nLuvassa on myös 2vs2 all styles battle\, johon voi ilmoittautua paikan päällä klo 24:30 asti. \n💿 Levyissä DJ RR sekä FTK DJ:t\n🎤 Isännöimässä MC Marikki (MOS) \nVAPAA PÄÄSY!
URL:https://www.ravintolapanza.fi/tapahtuma/coctel-de-baile-callejero-keskiyon-katutanssijamit-3/
LOCATION:Ravintola Panza\, Käsityökatu 19\, Kuopio\, 70100\, Suomi
ATTACH;FMTTYPE=image/jpeg:https://www.ravintolapanza.fi/wp-content/uploads/2024/07/panzan-tanssit-FB.jpg
ORGANIZER;CN="Funkkaa Taikka Kuole":MAILTO:info@funkkaataikkakuole.com
END:VEVENT
BEGIN:VEVENT
DTSTART;TZID=Europe/Helsinki:20240914T180000
DTEND;TZID=Europe/Helsinki:20240914T230000
DTSTAMP:20260420T034041
CREATED:20240701T103746Z
LAST-MODIFIED:20240701T103746Z
UID:2315-1726336800-1726354800@www.ravintolapanza.fi
SUMMARY:DJ RR
DESCRIPTION:Funkkaa Taikka Kuole DJ:t Panzassa! 100% vinyl.
URL:https://www.ravintolapanza.fi/tapahtuma/dj-rr-24/
LOCATION:Ravintola Panza\, Käsityökatu 19\, Kuopio\, 70100\, Suomi
ATTACH;FMTTYPE=image/jpeg:https://www.ravintolapanza.fi/wp-content/uploads/2024/06/PANZA_DJ_heina-syys-24-fb.jpg
ORGANIZER;CN="Funkkaa Taikka Kuole":MAILTO:info@funkkaataikkakuole.com
END:VEVENT
BEGIN:VEVENT
DTSTART;TZID=Europe/Helsinki:20240913T180000
DTEND;TZID=Europe/Helsinki:20240913T230000
DTSTAMP:20260420T034041
CREATED:20240701T103728Z
LAST-MODIFIED:20240701T103728Z
UID:2313-1726250400-1726268400@www.ravintolapanza.fi
SUMMARY:DJ RR
DESCRIPTION:Funkkaa Taikka Kuole DJ:t Panzassa! 100% vinyl.
URL:https://www.ravintolapanza.fi/tapahtuma/dj-rr-23/
LOCATION:Ravintola Panza\, Käsityökatu 19\, Kuopio\, 70100\, Suomi
ATTACH;FMTTYPE=image/jpeg:https://www.ravintolapanza.fi/wp-content/uploads/2024/06/PANZA_DJ_heina-syys-24-fb.jpg
ORGANIZER;CN="Funkkaa Taikka Kuole":MAILTO:info@funkkaataikkakuole.com
END:VEVENT
BEGIN:VEVENT
DTSTART;TZID=Europe/Helsinki:20240907T180000
DTEND;TZID=Europe/Helsinki:20240907T230000
DTSTAMP:20260420T034041
CREATED:20240701T103645Z
LAST-MODIFIED:20240701T103645Z
UID:2311-1725732000-1725750000@www.ravintolapanza.fi
SUMMARY:DJ OK-M
DESCRIPTION:Funkkaa Taikka Kuole DJ:t Panzassa! 100% vinyl.
URL:https://www.ravintolapanza.fi/tapahtuma/dj-ok-m-22/
LOCATION:Ravintola Panza\, Käsityökatu 19\, Kuopio\, 70100\, Suomi
ATTACH;FMTTYPE=image/jpeg:https://www.ravintolapanza.fi/wp-content/uploads/2024/06/PANZA_DJ_heina-syys-24-fb.jpg
ORGANIZER;CN="Funkkaa Taikka Kuole":MAILTO:info@funkkaataikkakuole.com
END:VEVENT
BEGIN:VEVENT
DTSTART;TZID=Europe/Helsinki:20240906T180000
DTEND;TZID=Europe/Helsinki:20240906T230000
DTSTAMP:20260420T034041
CREATED:20240701T103526Z
LAST-MODIFIED:20240701T103620Z
UID:2309-1725645600-1725663600@www.ravintolapanza.fi
SUMMARY:DJ OK-M
DESCRIPTION:Funkkaa Taikka Kuole DJ:t Panzassa! 100% vinyl.
URL:https://www.ravintolapanza.fi/tapahtuma/dj-ok-m-21/
LOCATION:Ravintola Panza\, Käsityökatu 19\, Kuopio\, 70100\, Suomi
ATTACH;FMTTYPE=image/jpeg:https://www.ravintolapanza.fi/wp-content/uploads/2024/06/PANZA_DJ_heina-syys-24-fb.jpg
ORGANIZER;CN="Funkkaa Taikka Kuole":MAILTO:info@funkkaataikkakuole.com
END:VEVENT
BEGIN:VEVENT
DTSTART;TZID=Europe/Helsinki:20240831T235900
DTEND;TZID=Europe/Helsinki:20240901T013000
DTSTAMP:20260420T034041
CREATED:20240709T111951Z
LAST-MODIFIED:20240709T111951Z
UID:2333-1725148740-1725154200@www.ravintolapanza.fi
SUMMARY:¡Cóctel de baile callejero! - keskiyön katutanssijamit
DESCRIPTION:¡Cóctel de baile callejero! \nKeskiyön katutanssijamit Panzassa 27.7.\, 31.8.\, ja 14.9. \n⏰ Tanssilattia klo 24 alkaen\n💥 All styles battle klo 24:30 \nLuvassa on myös 2vs2 all styles battle\, johon voi ilmoittautua paikan päällä klo 24:30 asti. \n💿 Levyissä DJ RR sekä FTK DJ:t\n🎤 Isännöimässä MC Marikki (MOS) \nVAPAA PÄÄSY!
URL:https://www.ravintolapanza.fi/tapahtuma/coctel-de-baile-callejero-keskiyon-katutanssijamit-2/
LOCATION:Ravintola Panza\, Käsityökatu 19\, Kuopio\, 70100\, Suomi
ATTACH;FMTTYPE=image/jpeg:https://www.ravintolapanza.fi/wp-content/uploads/2024/07/panzan-tanssit-FB.jpg
ORGANIZER;CN="Funkkaa Taikka Kuole":MAILTO:info@funkkaataikkakuole.com
END:VEVENT
END:VCALENDAR