BEGIN:VCALENDAR
VERSION:2.0
PRODID:-//Ravintola Panza - ECPv6.15.18//NONSGML v1.0//EN
CALSCALE:GREGORIAN
METHOD:PUBLISH
X-ORIGINAL-URL:https://www.ravintolapanza.fi
X-WR-CALDESC:Tapahtumat Ravintola Panza
REFRESH-INTERVAL;VALUE=DURATION:PT1H
X-Robots-Tag:noindex
X-PUBLISHED-TTL:PT1H
BEGIN:VTIMEZONE
TZID:Europe/Helsinki
BEGIN:DAYLIGHT
TZOFFSETFROM:+0200
TZOFFSETTO:+0300
TZNAME:EEST
DTSTART:20230326T010000
END:DAYLIGHT
BEGIN:STANDARD
TZOFFSETFROM:+0300
TZOFFSETTO:+0200
TZNAME:EET
DTSTART:20231029T010000
END:STANDARD
BEGIN:DAYLIGHT
TZOFFSETFROM:+0200
TZOFFSETTO:+0300
TZNAME:EEST
DTSTART:20240331T010000
END:DAYLIGHT
BEGIN:STANDARD
TZOFFSETFROM:+0300
TZOFFSETTO:+0200
TZNAME:EET
DTSTART:20241027T010000
END:STANDARD
BEGIN:DAYLIGHT
TZOFFSETFROM:+0200
TZOFFSETTO:+0300
TZNAME:EEST
DTSTART:20250330T010000
END:DAYLIGHT
BEGIN:STANDARD
TZOFFSETFROM:+0300
TZOFFSETTO:+0200
TZNAME:EET
DTSTART:20251026T010000
END:STANDARD
END:VTIMEZONE
BEGIN:VEVENT
DTSTART;TZID=Europe/Helsinki:20240705T180000
DTEND;TZID=Europe/Helsinki:20240705T230000
DTSTAMP:20260420T111334
CREATED:20240629T082529Z
LAST-MODIFIED:20240629T082529Z
UID:2272-1720202400-1720220400@www.ravintolapanza.fi
SUMMARY:DJ OK-M
DESCRIPTION:Funkkaa Taikka Kuole DJ:t Panzassa! 100% vinyl.
URL:https://www.ravintolapanza.fi/tapahtuma/dj-ok-m-17/
LOCATION:Ravintola Panza\, Käsityökatu 19\, Kuopio\, 70100\, Suomi
ATTACH;FMTTYPE=image/jpeg:https://www.ravintolapanza.fi/wp-content/uploads/2024/06/PANZA_DJ_heina-syys-24-fb.jpg
ORGANIZER;CN="Funkkaa Taikka Kuole":MAILTO:info@funkkaataikkakuole.com
END:VEVENT
BEGIN:VEVENT
DTSTART;TZID=Europe/Helsinki:20240629T180000
DTEND;TZID=Europe/Helsinki:20240629T230000
DTSTAMP:20260420T111334
CREATED:20240329T093433Z
LAST-MODIFIED:20240329T093433Z
UID:2228-1719684000-1719702000@www.ravintolapanza.fi
SUMMARY:DJ OK-M
DESCRIPTION:Funkkaa Taikka Kuole DJ:t Panzassa! 100% vinyl.
URL:https://www.ravintolapanza.fi/tapahtuma/dj-ok-m-16/
LOCATION:Ravintola Panza\, Käsityökatu 19\, Kuopio\, 70100\, Suomi
ATTACH;FMTTYPE=image/jpeg:https://www.ravintolapanza.fi/wp-content/uploads/2024/03/panza-DJ-cover_huhtikesa24.jpg
ORGANIZER;CN="Funkkaa Taikka Kuole":MAILTO:info@funkkaataikkakuole.com
END:VEVENT
BEGIN:VEVENT
DTSTART;TZID=Europe/Helsinki:20240628T180000
DTEND;TZID=Europe/Helsinki:20240628T230000
DTSTAMP:20260420T111334
CREATED:20240329T093416Z
LAST-MODIFIED:20240329T093416Z
UID:2226-1719597600-1719615600@www.ravintolapanza.fi
SUMMARY:DJ OK-M
DESCRIPTION:Funkkaa Taikka Kuole DJ:t Panzassa! 100% vinyl.
URL:https://www.ravintolapanza.fi/tapahtuma/dj-ok-m-15/
LOCATION:Ravintola Panza\, Käsityökatu 19\, Kuopio\, 70100\, Suomi
ATTACH;FMTTYPE=image/jpeg:https://www.ravintolapanza.fi/wp-content/uploads/2024/03/panza-DJ-cover_huhtikesa24.jpg
ORGANIZER;CN="Funkkaa Taikka Kuole":MAILTO:info@funkkaataikkakuole.com
END:VEVENT
BEGIN:VEVENT
DTSTART;TZID=Europe/Helsinki:20240615T220000
DTEND;TZID=Europe/Helsinki:20240616T020000
DTSTAMP:20260420T111334
CREATED:20240513T190722Z
LAST-MODIFIED:20240513T190722Z
UID:2251-1718488800-1718503200@www.ravintolapanza.fi
SUMMARY:Live: Rösteri & Edu Kehäkettunen
DESCRIPTION:Panzalla testaillaan miten lauteet kestää liveä! \nLive: EDU KEHÄKETTUNEN\nSuomiräpin pioneeri\, MC Taakibörstastakin tuttu Edu Kehäkettunen julkaisi ensimmäisen albuminsa yli vuosikymmeneen ja ensimmäisten arvioiden mukaan levy on onnistunut erittäin hyvin. \nLive: RÖSTERI\nRösteri tuo hiphopin taloon! Niko Novanakin tunnetun Röllin\, DJ Stedin ja Riku Ryysyläisen muodostama trio keikkailee yli kymmenen vuoden kokemuksella halliten levarit ja mikin suvereenisti savon murteella. 2022 julkaistu nimikko EP löytyy digitaalisena suoratoistopalveluista sekä vinyylinä. \nEnnakkolippu: https://pay.sumup.com/b2c/QPTC12MT\n(säilytä ja näytä kuitti lipunmyynnissä) \nShowtime klo 24\nLiput 15€\nLipunmyynti ovella klo 22 alkaen
URL:https://www.ravintolapanza.fi/tapahtuma/live-rosteri-edu-kehakettunen/
LOCATION:Ravintola Panza\, Käsityökatu 19\, Kuopio\, 70100\, Suomi
ATTACH;FMTTYPE=image/jpeg:https://www.ravintolapanza.fi/wp-content/uploads/2024/05/kehakettu-rosteri-FB.jpg
ORGANIZER;CN="Funkkaa Taikka Kuole":MAILTO:info@funkkaataikkakuole.com
END:VEVENT
BEGIN:VEVENT
DTSTART;TZID=Europe/Helsinki:20240615T180000
DTEND;TZID=Europe/Helsinki:20240615T230000
DTSTAMP:20260420T111334
CREATED:20240329T093351Z
LAST-MODIFIED:20240329T093351Z
UID:2224-1718474400-1718492400@www.ravintolapanza.fi
SUMMARY:DJ RR
DESCRIPTION:Funkkaa Taikka Kuole DJ:t Panzassa! 100% vinyl.
URL:https://www.ravintolapanza.fi/tapahtuma/dj-rr-18/
LOCATION:Ravintola Panza\, Käsityökatu 19\, Kuopio\, 70100\, Suomi
ATTACH;FMTTYPE=image/jpeg:https://www.ravintolapanza.fi/wp-content/uploads/2024/03/panza-DJ-cover_huhtikesa24.jpg
ORGANIZER;CN="Funkkaa Taikka Kuole":MAILTO:info@funkkaataikkakuole.com
END:VEVENT
BEGIN:VEVENT
DTSTART;TZID=Europe/Helsinki:20240614T180000
DTEND;TZID=Europe/Helsinki:20240614T230000
DTSTAMP:20260420T111334
CREATED:20240329T093333Z
LAST-MODIFIED:20240329T093333Z
UID:2222-1718388000-1718406000@www.ravintolapanza.fi
SUMMARY:DJ RR
DESCRIPTION:Funkkaa Taikka Kuole DJ:t Panzassa! 100% vinyl.
URL:https://www.ravintolapanza.fi/tapahtuma/dj-rr-17/
LOCATION:Ravintola Panza\, Käsityökatu 19\, Kuopio\, 70100\, Suomi
ATTACH;FMTTYPE=image/jpeg:https://www.ravintolapanza.fi/wp-content/uploads/2024/03/panza-DJ-cover_huhtikesa24.jpg
ORGANIZER;CN="Funkkaa Taikka Kuole":MAILTO:info@funkkaataikkakuole.com
END:VEVENT
BEGIN:VEVENT
DTSTART;TZID=Europe/Helsinki:20240608T180000
DTEND;TZID=Europe/Helsinki:20240608T230000
DTSTAMP:20260420T111334
CREATED:20240329T093310Z
LAST-MODIFIED:20240329T093310Z
UID:2220-1717869600-1717887600@www.ravintolapanza.fi
SUMMARY:DJ A. LAHTI
DESCRIPTION:Funkkaa Taikka Kuole DJ:t Panzassa! 100% vinyl.
URL:https://www.ravintolapanza.fi/tapahtuma/dj-a-lahti-4/
LOCATION:Ravintola Panza\, Käsityökatu 19\, Kuopio\, 70100\, Suomi
ATTACH;FMTTYPE=image/jpeg:https://www.ravintolapanza.fi/wp-content/uploads/2024/03/panza-DJ-cover_huhtikesa24.jpg
ORGANIZER;CN="Funkkaa Taikka Kuole":MAILTO:info@funkkaataikkakuole.com
END:VEVENT
BEGIN:VEVENT
DTSTART;TZID=Europe/Helsinki:20240607T180000
DTEND;TZID=Europe/Helsinki:20240607T230000
DTSTAMP:20260420T111334
CREATED:20240329T093254Z
LAST-MODIFIED:20240329T093254Z
UID:2218-1717783200-1717801200@www.ravintolapanza.fi
SUMMARY:DJ A. LAHTI
DESCRIPTION:Funkkaa Taikka Kuole DJ:t Panzassa! 100% vinyl.
URL:https://www.ravintolapanza.fi/tapahtuma/dj-a-lahti-3/
LOCATION:Ravintola Panza\, Käsityökatu 19\, Kuopio\, 70100\, Suomi
ATTACH;FMTTYPE=image/jpeg:https://www.ravintolapanza.fi/wp-content/uploads/2024/03/panza-DJ-cover_huhtikesa24.jpg
ORGANIZER;CN="Funkkaa Taikka Kuole":MAILTO:info@funkkaataikkakuole.com
END:VEVENT
BEGIN:VEVENT
DTSTART;TZID=Europe/Helsinki:20240601T180000
DTEND;TZID=Europe/Helsinki:20240601T230000
DTSTAMP:20260420T111334
CREATED:20240329T093229Z
LAST-MODIFIED:20240329T093229Z
UID:2216-1717264800-1717282800@www.ravintolapanza.fi
SUMMARY:DJ JONIVELI
DESCRIPTION:Funkkaa Taikka Kuole DJ:t Panzassa! 100% vinyl.
URL:https://www.ravintolapanza.fi/tapahtuma/dj-joniveli-2/
LOCATION:Ravintola Panza\, Käsityökatu 19\, Kuopio\, 70100\, Suomi
ATTACH;FMTTYPE=image/jpeg:https://www.ravintolapanza.fi/wp-content/uploads/2024/03/panza-DJ-cover_huhtikesa24.jpg
ORGANIZER;CN="Funkkaa Taikka Kuole":MAILTO:info@funkkaataikkakuole.com
END:VEVENT
BEGIN:VEVENT
DTSTART;TZID=Europe/Helsinki:20240531T180000
DTEND;TZID=Europe/Helsinki:20240531T230000
DTSTAMP:20260420T111334
CREATED:20240329T093212Z
LAST-MODIFIED:20240329T093212Z
UID:2214-1717178400-1717196400@www.ravintolapanza.fi
SUMMARY:DJ JONIVELI
DESCRIPTION:Funkkaa Taikka Kuole DJ:t Panzassa! 100% vinyl.
URL:https://www.ravintolapanza.fi/tapahtuma/dj-joniveli/
LOCATION:Ravintola Panza\, Käsityökatu 19\, Kuopio\, 70100\, Suomi
ATTACH;FMTTYPE=image/jpeg:https://www.ravintolapanza.fi/wp-content/uploads/2024/03/panza-DJ-cover_huhtikesa24.jpg
ORGANIZER;CN="Funkkaa Taikka Kuole":MAILTO:info@funkkaataikkakuole.com
END:VEVENT
BEGIN:VEVENT
DTSTART;TZID=Europe/Helsinki:20240525T180000
DTEND;TZID=Europe/Helsinki:20240525T230000
DTSTAMP:20260420T111334
CREATED:20240329T093145Z
LAST-MODIFIED:20240329T093145Z
UID:2212-1716660000-1716678000@www.ravintolapanza.fi
SUMMARY:DJ RR
DESCRIPTION:Funkkaa Taikka Kuole DJ:t Panzassa! 100% vinyl.
URL:https://www.ravintolapanza.fi/tapahtuma/dj-rr-16/
LOCATION:Ravintola Panza\, Käsityökatu 19\, Kuopio\, 70100\, Suomi
ATTACH;FMTTYPE=image/jpeg:https://www.ravintolapanza.fi/wp-content/uploads/2024/03/panza-DJ-cover_huhtikesa24.jpg
ORGANIZER;CN="Funkkaa Taikka Kuole":MAILTO:info@funkkaataikkakuole.com
END:VEVENT
BEGIN:VEVENT
DTSTART;TZID=Europe/Helsinki:20240524T180000
DTEND;TZID=Europe/Helsinki:20240524T230000
DTSTAMP:20260420T111334
CREATED:20240329T093117Z
LAST-MODIFIED:20240329T093117Z
UID:2210-1716573600-1716591600@www.ravintolapanza.fi
SUMMARY:DJ RR
DESCRIPTION:Funkkaa Taikka Kuole DJ:t Panzassa! 100% vinyl.
URL:https://www.ravintolapanza.fi/tapahtuma/dj-rr-15/
LOCATION:Ravintola Panza\, Käsityökatu 19\, Kuopio\, 70100\, Suomi
ATTACH;FMTTYPE=image/jpeg:https://www.ravintolapanza.fi/wp-content/uploads/2024/03/panza-DJ-cover_huhtikesa24.jpg
ORGANIZER;CN="Funkkaa Taikka Kuole":MAILTO:info@funkkaataikkakuole.com
END:VEVENT
BEGIN:VEVENT
DTSTART;TZID=Europe/Helsinki:20240518T180000
DTEND;TZID=Europe/Helsinki:20240518T230000
DTSTAMP:20260420T111334
CREATED:20240329T093054Z
LAST-MODIFIED:20240329T093054Z
UID:2208-1716055200-1716073200@www.ravintolapanza.fi
SUMMARY:DJ OK-M
DESCRIPTION:Funkkaa Taikka Kuole DJ:t Panzassa! 100% vinyl.
URL:https://www.ravintolapanza.fi/tapahtuma/dj-ok-m-14/
LOCATION:Ravintola Panza\, Käsityökatu 19\, Kuopio\, 70100\, Suomi
ATTACH;FMTTYPE=image/jpeg:https://www.ravintolapanza.fi/wp-content/uploads/2024/03/panza-DJ-cover_huhtikesa24.jpg
ORGANIZER;CN="Funkkaa Taikka Kuole":MAILTO:info@funkkaataikkakuole.com
END:VEVENT
BEGIN:VEVENT
DTSTART;TZID=Europe/Helsinki:20240517T180000
DTEND;TZID=Europe/Helsinki:20240517T230000
DTSTAMP:20260420T111334
CREATED:20240329T093038Z
LAST-MODIFIED:20240329T093038Z
UID:2206-1715968800-1715986800@www.ravintolapanza.fi
SUMMARY:DJ OK-M
DESCRIPTION:Funkkaa Taikka Kuole DJ:t Panzassa! 100% vinyl.
URL:https://www.ravintolapanza.fi/tapahtuma/dj-ok-m-13/
LOCATION:Ravintola Panza\, Käsityökatu 19\, Kuopio\, 70100\, Suomi
ATTACH;FMTTYPE=image/jpeg:https://www.ravintolapanza.fi/wp-content/uploads/2024/03/panza-DJ-cover_huhtikesa24.jpg
ORGANIZER;CN="Funkkaa Taikka Kuole":MAILTO:info@funkkaataikkakuole.com
END:VEVENT
BEGIN:VEVENT
DTSTART;TZID=Europe/Helsinki:20240512T120000
DTEND;TZID=Europe/Helsinki:20240512T160000
DTSTAMP:20260420T111334
CREATED:20240504T123037Z
LAST-MODIFIED:20240507T123444Z
UID:2245-1715515200-1715529600@www.ravintolapanza.fi
SUMMARY:Äitienpäivän tacobuffa
DESCRIPTION:Äitenpäivä tacobuffa \nKattaukset klo 12 ja klo 14\nAikuiset: 35€\, Lapset (5-12v): 12€\nVaraa pöytä: 044 7060800 \nHedelmiä\nVihreää salaattia ja vinaigrettea (V\, G)\nQueso fresco –pähkinäsalaattia (L\, G)\nCaesarsalaattia (L\, G)\nKrutonkeja (L) \nNachoja (V\, G)\nSalsa rojaa (V\, G)\nSalsa verdeä (V\, G)\nMaissi-habanerosalsaa (V\, G)\nCreme fraichea (L\, G) \nLimellä ja chilillä maustettua kanaa (L\, G)\nMyskikurpitsapaistosta (V\, G)\nMarinoitua punasipulia (V\, G)\nPikkelöityä punakaalia (V\, G) \nTäytekakkua (L)\nPassionmoussea ja marjoja (L\, G) \nLapsille: kanaa ja ranskalaisia (M\, G)
URL:https://www.ravintolapanza.fi/tapahtuma/aitienpaivan-tacobuffa/
LOCATION:Ravintola Panza\, Käsityökatu 19\, Kuopio\, 70100\, Suomi
ATTACH;FMTTYPE=image/jpeg:https://www.ravintolapanza.fi/wp-content/uploads/2024/05/PANZA_aiti-fb-cover.jpg
ORGANIZER;CN="Panza":MAILTO:info@ravintolapanza.fi
END:VEVENT
BEGIN:VEVENT
DTSTART;TZID=Europe/Helsinki:20240511T180000
DTEND;TZID=Europe/Helsinki:20240511T230000
DTSTAMP:20260420T111334
CREATED:20240329T093010Z
LAST-MODIFIED:20240329T093010Z
UID:2204-1715450400-1715468400@www.ravintolapanza.fi
SUMMARY:DJ R2ISDJ2 & MATTIWATTI
DESCRIPTION:Funkkaa Taikka Kuole DJ:t Panzassa! 100% vinyl.
URL:https://www.ravintolapanza.fi/tapahtuma/dj-r2isdj2-mattiwatti-2/
LOCATION:Ravintola Panza\, Käsityökatu 19\, Kuopio\, 70100\, Suomi
ATTACH;FMTTYPE=image/jpeg:https://www.ravintolapanza.fi/wp-content/uploads/2024/03/panza-DJ-cover_huhtikesa24.jpg
ORGANIZER;CN="Funkkaa Taikka Kuole":MAILTO:info@funkkaataikkakuole.com
END:VEVENT
BEGIN:VEVENT
DTSTART;TZID=Europe/Helsinki:20240510T180000
DTEND;TZID=Europe/Helsinki:20240510T230000
DTSTAMP:20260420T111334
CREATED:20240329T092945Z
LAST-MODIFIED:20240329T092945Z
UID:2202-1715364000-1715382000@www.ravintolapanza.fi
SUMMARY:DJ R2ISDJ2 & MATTIWATTI
DESCRIPTION:Funkkaa Taikka Kuole DJ:t Panzassa! 100% vinyl.
URL:https://www.ravintolapanza.fi/tapahtuma/dj-r2isdj2-mattiwatti/
LOCATION:Ravintola Panza\, Käsityökatu 19\, Kuopio\, 70100\, Suomi
ATTACH;FMTTYPE=image/jpeg:https://www.ravintolapanza.fi/wp-content/uploads/2024/03/panza-DJ-cover_huhtikesa24.jpg
ORGANIZER;CN="Funkkaa Taikka Kuole":MAILTO:info@funkkaataikkakuole.com
END:VEVENT
BEGIN:VEVENT
DTSTART;TZID=Europe/Helsinki:20240504T180000
DTEND;TZID=Europe/Helsinki:20240504T230000
DTSTAMP:20260420T111334
CREATED:20240329T092916Z
LAST-MODIFIED:20240329T092916Z
UID:2200-1714845600-1714863600@www.ravintolapanza.fi
SUMMARY:DJ LIESITUULETIN
DESCRIPTION:Funkkaa Taikka Kuole DJ:t Panzassa! 100% vinyl.
URL:https://www.ravintolapanza.fi/tapahtuma/dj-liesituuletin/
LOCATION:Ravintola Panza\, Käsityökatu 19\, Kuopio\, 70100\, Suomi
ATTACH;FMTTYPE=image/jpeg:https://www.ravintolapanza.fi/wp-content/uploads/2024/03/panza-DJ-cover_huhtikesa24.jpg
ORGANIZER;CN="Funkkaa Taikka Kuole":MAILTO:info@funkkaataikkakuole.com
END:VEVENT
BEGIN:VEVENT
DTSTART;TZID=Europe/Helsinki:20240503T180000
DTEND;TZID=Europe/Helsinki:20240503T230000
DTSTAMP:20260420T111334
CREATED:20240329T092453Z
LAST-MODIFIED:20240329T092554Z
UID:2195-1714759200-1714777200@www.ravintolapanza.fi
SUMMARY:DJ STEDI
DESCRIPTION:Funkkaa Taikka Kuole DJ:t Panzassa! 100% vinyl.
URL:https://www.ravintolapanza.fi/tapahtuma/dj-stedi-6/
LOCATION:Ravintola Panza\, Käsityökatu 19\, Kuopio\, 70100\, Suomi
ATTACH;FMTTYPE=image/jpeg:https://www.ravintolapanza.fi/wp-content/uploads/2024/03/panza-DJ-cover_huhtikesa24.jpg
ORGANIZER;CN="Funkkaa Taikka Kuole":MAILTO:info@funkkaataikkakuole.com
END:VEVENT
BEGIN:VEVENT
DTSTART;TZID=Europe/Helsinki:20240501T120000
DTEND;TZID=Europe/Helsinki:20240501T170000
DTSTAMP:20260420T111334
CREATED:20240413T102431Z
LAST-MODIFIED:20250411T054709Z
UID:2232-1714564800-1714582800@www.ravintolapanza.fi
SUMMARY:VAPPUBRUNSSI 1.5.2024
DESCRIPTION:Vappubrunssi 1.5. \nEnsimmäinen kattaus klo 12.\nToinen kattaus klo 15.\nHinta 42€.\n0-3v ilmainen\, 4-12v 20€. \nVaraa pöytä 044 7060800. \nVihreää salaattia ja vinaigrettea (V\, G)\nPeruna-parsasalaattia (V\, G)\nMeloni-kurkkusalaattia (V\, G)\nSinaloa-style aguachile (Rapusaalaatti) (L\, G)\nTostadaa (V\, G)\nNachoja (V\, G)\nPico de gallo – salsa (V\, G)\nChimichurria (V\, G)\nGuacamolea (V\, G) \nBirriapata naudan lihasta (L\, G)\nBhaji (Intialainen kasvispyörykkä) (V\, G)\nYrttinen creme fraiche (L\, G) \nMarinoiruja hedelmiä ja vaniljakastiketta (L\, G)\nMango-limejuustokakkua (L\, G)\nChurroja ja suklaakastiketta (L\, G) \nAnanas-simaa
URL:https://www.ravintolapanza.fi/tapahtuma/vappubrunssi-1-5/
LOCATION:Ravintola Panza\, Käsityökatu 19\, Kuopio\, 70100\, Suomi
ATTACH;FMTTYPE=image/jpeg:https://www.ravintolapanza.fi/wp-content/uploads/2024/04/panzavappucover2.jpg
ORGANIZER;CN="Panza":MAILTO:info@ravintolapanza.fi
END:VEVENT
BEGIN:VEVENT
DTSTART;TZID=Europe/Helsinki:20240427T180000
DTEND;TZID=Europe/Helsinki:20240427T230000
DTSTAMP:20260420T111334
CREATED:20240329T092427Z
LAST-MODIFIED:20240329T092616Z
UID:2193-1714240800-1714258800@www.ravintolapanza.fi
SUMMARY:DJ JUICY L
DESCRIPTION:Funkkaa Taikka Kuole DJ:t Panzassa! 100% vinyl.
URL:https://www.ravintolapanza.fi/tapahtuma/dj-juicy-l-3/
LOCATION:Ravintola Panza\, Käsityökatu 19\, Kuopio\, 70100\, Suomi
ATTACH;FMTTYPE=image/jpeg:https://www.ravintolapanza.fi/wp-content/uploads/2024/03/panza-DJ-cover_huhtikesa24.jpg
ORGANIZER;CN="Funkkaa Taikka Kuole":MAILTO:info@funkkaataikkakuole.com
END:VEVENT
BEGIN:VEVENT
DTSTART;TZID=Europe/Helsinki:20240426T180000
DTEND;TZID=Europe/Helsinki:20240426T230000
DTSTAMP:20260420T111334
CREATED:20240329T092410Z
LAST-MODIFIED:20240329T092632Z
UID:2191-1714154400-1714172400@www.ravintolapanza.fi
SUMMARY:DJ JUICY L
DESCRIPTION:Funkkaa Taikka Kuole DJ:t Panzassa! 100% vinyl.
URL:https://www.ravintolapanza.fi/tapahtuma/dj-juicy-l-2/
LOCATION:Ravintola Panza\, Käsityökatu 19\, Kuopio\, 70100\, Suomi
ATTACH;FMTTYPE=image/jpeg:https://www.ravintolapanza.fi/wp-content/uploads/2024/03/panza-DJ-cover_huhtikesa24.jpg
ORGANIZER;CN="Funkkaa Taikka Kuole":MAILTO:info@funkkaataikkakuole.com
END:VEVENT
BEGIN:VEVENT
DTSTART;TZID=Europe/Helsinki:20240420T180000
DTEND;TZID=Europe/Helsinki:20240420T230000
DTSTAMP:20260420T111334
CREATED:20240329T092350Z
LAST-MODIFIED:20240329T092649Z
UID:2189-1713636000-1713654000@www.ravintolapanza.fi
SUMMARY:DJ JUICY L
DESCRIPTION:Funkkaa Taikka Kuole DJ:t Panzassa! 100% vinyl.
URL:https://www.ravintolapanza.fi/tapahtuma/dj-juicy-l/
LOCATION:Ravintola Panza\, Käsityökatu 19\, Kuopio\, 70100\, Suomi
ATTACH;FMTTYPE=image/jpeg:https://www.ravintolapanza.fi/wp-content/uploads/2024/03/panza-DJ-cover_huhtikesa24.jpg
ORGANIZER;CN="Funkkaa Taikka Kuole":MAILTO:info@funkkaataikkakuole.com
END:VEVENT
BEGIN:VEVENT
DTSTART;TZID=Europe/Helsinki:20240419T180000
DTEND;TZID=Europe/Helsinki:20240419T230000
DTSTAMP:20260420T111334
CREATED:20240329T092325Z
LAST-MODIFIED:20240329T092706Z
UID:2187-1713549600-1713567600@www.ravintolapanza.fi
SUMMARY:DJ STEDI
DESCRIPTION:Funkkaa Taikka Kuole DJ:t Panzassa! 100% vinyl.
URL:https://www.ravintolapanza.fi/tapahtuma/dj-stedi-5/
LOCATION:Ravintola Panza\, Käsityökatu 19\, Kuopio\, 70100\, Suomi
ATTACH;FMTTYPE=image/jpeg:https://www.ravintolapanza.fi/wp-content/uploads/2024/03/panza-DJ-cover_huhtikesa24.jpg
ORGANIZER;CN="Funkkaa Taikka Kuole":MAILTO:info@funkkaataikkakuole.com
END:VEVENT
BEGIN:VEVENT
DTSTART;TZID=Europe/Helsinki:20240413T180000
DTEND;TZID=Europe/Helsinki:20240413T230000
DTSTAMP:20260420T111334
CREATED:20240329T092259Z
LAST-MODIFIED:20240329T092724Z
UID:2185-1713031200-1713049200@www.ravintolapanza.fi
SUMMARY:DJ RR
DESCRIPTION:Funkkaa Taikka Kuole DJ:t Panzassa! 100% vinyl.
URL:https://www.ravintolapanza.fi/tapahtuma/dj-rr-14/
LOCATION:Ravintola Panza\, Käsityökatu 19\, Kuopio\, 70100\, Suomi
ATTACH;FMTTYPE=image/jpeg:https://www.ravintolapanza.fi/wp-content/uploads/2024/03/panza-DJ-cover_huhtikesa24.jpg
ORGANIZER;CN="Funkkaa Taikka Kuole":MAILTO:info@funkkaataikkakuole.com
END:VEVENT
BEGIN:VEVENT
DTSTART;TZID=Europe/Helsinki:20240412T180000
DTEND;TZID=Europe/Helsinki:20240412T230000
DTSTAMP:20260420T111334
CREATED:20240329T092243Z
LAST-MODIFIED:20240329T092739Z
UID:2183-1712944800-1712962800@www.ravintolapanza.fi
SUMMARY:DJ RR
DESCRIPTION:Funkkaa Taikka Kuole DJ:t Panzassa! 100% vinyl.
URL:https://www.ravintolapanza.fi/tapahtuma/dj-rr-13/
LOCATION:Ravintola Panza\, Käsityökatu 19\, Kuopio\, 70100\, Suomi
ATTACH;FMTTYPE=image/jpeg:https://www.ravintolapanza.fi/wp-content/uploads/2024/03/panza-DJ-cover_huhtikesa24.jpg
ORGANIZER;CN="Funkkaa Taikka Kuole":MAILTO:info@funkkaataikkakuole.com
END:VEVENT
BEGIN:VEVENT
DTSTART;TZID=Europe/Helsinki:20240406T180000
DTEND;TZID=Europe/Helsinki:20240406T230000
DTSTAMP:20260420T111334
CREATED:20240329T092212Z
LAST-MODIFIED:20240329T092757Z
UID:2181-1712426400-1712444400@www.ravintolapanza.fi
SUMMARY:DJ OK-M
DESCRIPTION:Funkkaa Taikka Kuole DJ:t Panzassa! 100% vinyl.
URL:https://www.ravintolapanza.fi/tapahtuma/dj-ok-m-12/
LOCATION:Ravintola Panza\, Käsityökatu 19\, Kuopio\, 70100\, Suomi
ATTACH;FMTTYPE=image/jpeg:https://www.ravintolapanza.fi/wp-content/uploads/2024/03/panza-DJ-cover_huhtikesa24.jpg
ORGANIZER;CN="Funkkaa Taikka Kuole":MAILTO:info@funkkaataikkakuole.com
END:VEVENT
BEGIN:VEVENT
DTSTART;TZID=Europe/Helsinki:20240405T180000
DTEND;TZID=Europe/Helsinki:20240405T230000
DTSTAMP:20260420T111334
CREATED:20240329T092110Z
LAST-MODIFIED:20240329T092840Z
UID:2179-1712340000-1712358000@www.ravintolapanza.fi
SUMMARY:DJ OK-M
DESCRIPTION:Funkkaa Taikka Kuole DJ:t Panzassa! 100% vinyl.
URL:https://www.ravintolapanza.fi/tapahtuma/dj-ok-m-11/
LOCATION:Ravintola Panza\, Käsityökatu 19\, Kuopio\, 70100\, Suomi
ATTACH;FMTTYPE=image/jpeg:https://www.ravintolapanza.fi/wp-content/uploads/2024/03/panza-DJ-cover_huhtikesa24.jpg
ORGANIZER;CN="Funkkaa Taikka Kuole":MAILTO:info@funkkaataikkakuole.com
END:VEVENT
BEGIN:VEVENT
DTSTART;TZID=Europe/Helsinki:20240330T180000
DTEND;TZID=Europe/Helsinki:20240330T230000
DTSTAMP:20260420T111334
CREATED:20231231T143427Z
LAST-MODIFIED:20231231T143722Z
UID:2151-1711821600-1711839600@www.ravintolapanza.fi
SUMMARY:DJ Kilauttaja
DESCRIPTION:Funkkaa Taikka Kuole DJ:t Panzassa! 100% vinyl.
URL:https://www.ravintolapanza.fi/tapahtuma/dj-kilauttaja-2/
LOCATION:Ravintola Panza\, Käsityökatu 19\, Kuopio\, 70100\, Suomi
ATTACH;FMTTYPE=image/jpeg:https://www.ravintolapanza.fi/wp-content/uploads/2023/12/panza2rundi.jpeg
ORGANIZER;CN="Funkkaa Taikka Kuole":MAILTO:info@funkkaataikkakuole.com
END:VEVENT
BEGIN:VEVENT
DTSTART;TZID=Europe/Helsinki:20240329T180000
DTEND;TZID=Europe/Helsinki:20240329T230000
DTSTAMP:20260420T111334
CREATED:20231231T143401Z
LAST-MODIFIED:20231231T143858Z
UID:2149-1711735200-1711753200@www.ravintolapanza.fi
SUMMARY:DJ Kilauttaja
DESCRIPTION:Funkkaa Taikka Kuole DJ:t Panzassa! 100% vinyl.
URL:https://www.ravintolapanza.fi/tapahtuma/dj-kilauttaja/
LOCATION:Ravintola Panza\, Käsityökatu 19\, Kuopio\, 70100\, Suomi
ATTACH;FMTTYPE=image/jpeg:https://www.ravintolapanza.fi/wp-content/uploads/2023/12/panza2rundi.jpeg
ORGANIZER;CN="Funkkaa Taikka Kuole":MAILTO:info@funkkaataikkakuole.com
END:VEVENT
END:VCALENDAR