BEGIN:VCALENDAR
VERSION:2.0
PRODID:-//Ravintola Panza - ECPv6.15.18//NONSGML v1.0//EN
CALSCALE:GREGORIAN
METHOD:PUBLISH
X-ORIGINAL-URL:https://www.ravintolapanza.fi
X-WR-CALDESC:Tapahtumat Ravintola Panza
REFRESH-INTERVAL;VALUE=DURATION:PT1H
X-Robots-Tag:noindex
X-PUBLISHED-TTL:PT1H
BEGIN:VTIMEZONE
TZID:Europe/Helsinki
BEGIN:DAYLIGHT
TZOFFSETFROM:+0200
TZOFFSETTO:+0300
TZNAME:EEST
DTSTART:20220327T010000
END:DAYLIGHT
BEGIN:STANDARD
TZOFFSETFROM:+0300
TZOFFSETTO:+0200
TZNAME:EET
DTSTART:20221030T010000
END:STANDARD
BEGIN:DAYLIGHT
TZOFFSETFROM:+0200
TZOFFSETTO:+0300
TZNAME:EEST
DTSTART:20230326T010000
END:DAYLIGHT
BEGIN:STANDARD
TZOFFSETFROM:+0300
TZOFFSETTO:+0200
TZNAME:EET
DTSTART:20231029T010000
END:STANDARD
BEGIN:DAYLIGHT
TZOFFSETFROM:+0200
TZOFFSETTO:+0300
TZNAME:EEST
DTSTART:20240331T010000
END:DAYLIGHT
BEGIN:STANDARD
TZOFFSETFROM:+0300
TZOFFSETTO:+0200
TZNAME:EET
DTSTART:20241027T010000
END:STANDARD
BEGIN:DAYLIGHT
TZOFFSETFROM:+0200
TZOFFSETTO:+0300
TZNAME:EEST
DTSTART:20250330T010000
END:DAYLIGHT
BEGIN:STANDARD
TZOFFSETFROM:+0300
TZOFFSETTO:+0200
TZNAME:EET
DTSTART:20251026T010000
END:STANDARD
END:VTIMEZONE
BEGIN:VEVENT
DTSTART;TZID=Europe/Helsinki:20240302T180000
DTEND;TZID=Europe/Helsinki:20240302T230000
DTSTAMP:20260424T123403
CREATED:20231231T143033Z
LAST-MODIFIED:20231231T144328Z
UID:2141-1709402400-1709420400@www.ravintolapanza.fi
SUMMARY:DJ KK
DESCRIPTION:Funkkaa Taikka Kuole DJ:t Panzassa! 100% vinyl.
URL:https://www.ravintolapanza.fi/tapahtuma/dj-stedi-3/
LOCATION:Ravintola Panza\, Käsityökatu 19\, Kuopio\, 70100\, Suomi
ATTACH;FMTTYPE=image/jpeg:https://www.ravintolapanza.fi/wp-content/uploads/2023/12/panza2rundi.jpeg
ORGANIZER;CN="Funkkaa Taikka Kuole":MAILTO:info@funkkaataikkakuole.com
END:VEVENT
BEGIN:VEVENT
DTSTART;TZID=Europe/Helsinki:20240301T180000
DTEND;TZID=Europe/Helsinki:20240301T230000
DTSTAMP:20260424T123403
CREATED:20231231T144308Z
LAST-MODIFIED:20231231T144308Z
UID:2154-1709316000-1709334000@www.ravintolapanza.fi
SUMMARY:DJ Stedi
DESCRIPTION:Funkkaa Taikka Kuole DJ:t Panzassa! 100% vinyl.
URL:https://www.ravintolapanza.fi/tapahtuma/dj-stedi-4/
LOCATION:Ravintola Panza\, Käsityökatu 19\, Kuopio\, 70100\, Suomi
ATTACH;FMTTYPE=image/jpeg:https://www.ravintolapanza.fi/wp-content/uploads/2023/12/panza2rundi.jpeg
ORGANIZER;CN="Funkkaa Taikka Kuole":MAILTO:info@funkkaataikkakuole.com
END:VEVENT
BEGIN:VEVENT
DTSTART;TZID=Europe/Helsinki:20240224T180000
DTEND;TZID=Europe/Helsinki:20240224T230000
DTSTAMP:20260424T123403
CREATED:20231231T142927Z
LAST-MODIFIED:20231231T144349Z
UID:2098-1708797600-1708815600@www.ravintolapanza.fi
SUMMARY:Korh1 & Liesituuletin
DESCRIPTION:Funkkaa Taikka Kuole DJ:t Panzassa! 100% vinyl.
URL:https://www.ravintolapanza.fi/tapahtuma/korh1-liesituuletin/
LOCATION:Ravintola Panza\, Käsityökatu 19\, Kuopio\, 70100\, Suomi
ATTACH;FMTTYPE=image/jpeg:https://www.ravintolapanza.fi/wp-content/uploads/2023/12/panza2rundi.jpeg
ORGANIZER;CN="Funkkaa Taikka Kuole":MAILTO:info@funkkaataikkakuole.com
END:VEVENT
BEGIN:VEVENT
DTSTART;TZID=Europe/Helsinki:20240223T180000
DTEND;TZID=Europe/Helsinki:20240223T230000
DTSTAMP:20260424T123403
CREATED:20231231T142834Z
LAST-MODIFIED:20231231T144453Z
UID:2096-1708711200-1708729200@www.ravintolapanza.fi
SUMMARY:Soul Valpio & Joniveli
DESCRIPTION:Funkkaa Taikka Kuole DJ:t Panzassa! 100% vinyl.
URL:https://www.ravintolapanza.fi/tapahtuma/soul-valpio-joniveli/
LOCATION:Ravintola Panza\, Käsityökatu 19\, Kuopio\, 70100\, Suomi
ATTACH;FMTTYPE=image/jpeg:https://www.ravintolapanza.fi/wp-content/uploads/2023/12/panza2rundi.jpeg
ORGANIZER;CN="Funkkaa Taikka Kuole":MAILTO:info@funkkaataikkakuole.com
END:VEVENT
BEGIN:VEVENT
DTSTART;TZID=Europe/Helsinki:20240217T180000
DTEND;TZID=Europe/Helsinki:20240217T230000
DTSTAMP:20260424T123403
CREATED:20231231T142728Z
LAST-MODIFIED:20231231T144517Z
UID:2094-1708192800-1708210800@www.ravintolapanza.fi
SUMMARY:DJ OK-M
DESCRIPTION:Funkkaa Taikka Kuole DJ:t Panzassa! 100% vinyl.
URL:https://www.ravintolapanza.fi/tapahtuma/dj-ok-m-8/
LOCATION:Ravintola Panza\, Käsityökatu 19\, Kuopio\, 70100\, Suomi
ATTACH;FMTTYPE=image/jpeg:https://www.ravintolapanza.fi/wp-content/uploads/2023/12/panza2rundi.jpeg
ORGANIZER;CN="Funkkaa Taikka Kuole":MAILTO:info@funkkaataikkakuole.com
END:VEVENT
BEGIN:VEVENT
DTSTART;TZID=Europe/Helsinki:20240216T180000
DTEND;TZID=Europe/Helsinki:20240216T230000
DTSTAMP:20260424T123403
CREATED:20231231T142659Z
LAST-MODIFIED:20231231T144543Z
UID:2093-1708106400-1708124400@www.ravintolapanza.fi
SUMMARY:DJ OK-M
DESCRIPTION:Funkkaa Taikka Kuole DJ:t Panzassa! 100% vinyl.
URL:https://www.ravintolapanza.fi/tapahtuma/dj-ok-m-7/
LOCATION:Ravintola Panza\, Käsityökatu 19\, Kuopio\, 70100\, Suomi
ATTACH;FMTTYPE=image/jpeg:https://www.ravintolapanza.fi/wp-content/uploads/2023/12/panza2rundi.jpeg
ORGANIZER;CN="Funkkaa Taikka Kuole":MAILTO:info@funkkaataikkakuole.com
END:VEVENT
BEGIN:VEVENT
DTSTART;TZID=Europe/Helsinki:20240210T180000
DTEND;TZID=Europe/Helsinki:20240210T230000
DTSTAMP:20260424T123403
CREATED:20231231T142637Z
LAST-MODIFIED:20231231T144623Z
UID:2091-1707588000-1707606000@www.ravintolapanza.fi
SUMMARY:DJ RR
DESCRIPTION:Funkkaa Taikka Kuole DJ:t Panzassa! 100% vinyl.
URL:https://www.ravintolapanza.fi/tapahtuma/dj-rr-10/
LOCATION:Ravintola Panza\, Käsityökatu 19\, Kuopio\, 70100\, Suomi
ATTACH;FMTTYPE=image/jpeg:https://www.ravintolapanza.fi/wp-content/uploads/2023/12/panza2rundi.jpeg
ORGANIZER;CN="Funkkaa Taikka Kuole":MAILTO:info@funkkaataikkakuole.com
END:VEVENT
BEGIN:VEVENT
DTSTART;TZID=Europe/Helsinki:20240209T180000
DTEND;TZID=Europe/Helsinki:20240209T230000
DTSTAMP:20260424T123403
CREATED:20231231T142626Z
LAST-MODIFIED:20231231T145236Z
UID:2090-1707501600-1707519600@www.ravintolapanza.fi
SUMMARY:DJ RR
DESCRIPTION:Funkkaa Taikka Kuole DJ:t Panzassa! 100% vinyl.
URL:https://www.ravintolapanza.fi/tapahtuma/dj-rr-9/
LOCATION:Ravintola Panza\, Käsityökatu 19\, Kuopio\, 70100\, Suomi
ATTACH;FMTTYPE=image/jpeg:https://www.ravintolapanza.fi/wp-content/uploads/2023/12/panza2rundi.jpeg
ORGANIZER;CN="Funkkaa Taikka Kuole":MAILTO:info@funkkaataikkakuole.com
END:VEVENT
BEGIN:VEVENT
DTSTART;TZID=Europe/Helsinki:20240203T180000
DTEND;TZID=Europe/Helsinki:20240203T230000
DTSTAMP:20260424T123403
CREATED:20231231T142607Z
LAST-MODIFIED:20231231T144648Z
UID:2088-1706983200-1707001200@www.ravintolapanza.fi
SUMMARY:DJ Juicy Leskinen
DESCRIPTION:Funkkaa Taikka Kuole DJ:t Panzassa! 100% vinyl.
URL:https://www.ravintolapanza.fi/tapahtuma/dj-juicy-leskinen-9/
LOCATION:Ravintola Panza\, Käsityökatu 19\, Kuopio\, 70100\, Suomi
ATTACH;FMTTYPE=image/jpeg:https://www.ravintolapanza.fi/wp-content/uploads/2023/12/panza2rundi.jpeg
ORGANIZER;CN="Funkkaa Taikka Kuole":MAILTO:info@funkkaataikkakuole.com
END:VEVENT
BEGIN:VEVENT
DTSTART;TZID=Europe/Helsinki:20240202T180000
DTEND;TZID=Europe/Helsinki:20240202T230000
DTSTAMP:20260424T123403
CREATED:20231231T142552Z
LAST-MODIFIED:20231231T144716Z
UID:2087-1706896800-1706914800@www.ravintolapanza.fi
SUMMARY:DJ Juicy Leskinen
DESCRIPTION:Funkkaa Taikka Kuole DJ:t Panzassa! 100% vinyl.
URL:https://www.ravintolapanza.fi/tapahtuma/dj-juicy-leskinen-8/
LOCATION:Ravintola Panza\, Käsityökatu 19\, Kuopio\, 70100\, Suomi
ATTACH;FMTTYPE=image/jpeg:https://www.ravintolapanza.fi/wp-content/uploads/2023/12/panza2rundi.jpeg
ORGANIZER;CN="Funkkaa Taikka Kuole":MAILTO:info@funkkaataikkakuole.com
END:VEVENT
BEGIN:VEVENT
DTSTART;TZID=Europe/Helsinki:20240127T180000
DTEND;TZID=Europe/Helsinki:20240127T230000
DTSTAMP:20260424T123403
CREATED:20231231T142533Z
LAST-MODIFIED:20231231T144733Z
UID:2085-1706378400-1706396400@www.ravintolapanza.fi
SUMMARY:DJ OK-M
DESCRIPTION:Funkkaa Taikka Kuole DJ:t Panzassa! 100% vinyl.
URL:https://www.ravintolapanza.fi/tapahtuma/dj-ok-m-6/
LOCATION:Ravintola Panza\, Käsityökatu 19\, Kuopio\, 70100\, Suomi
ATTACH;FMTTYPE=image/jpeg:https://www.ravintolapanza.fi/wp-content/uploads/2023/12/panza2rundi.jpeg
ORGANIZER;CN="Funkkaa Taikka Kuole":MAILTO:info@funkkaataikkakuole.com
END:VEVENT
BEGIN:VEVENT
DTSTART;TZID=Europe/Helsinki:20240126T180000
DTEND;TZID=Europe/Helsinki:20240126T230000
DTSTAMP:20260424T123403
CREATED:20231231T142517Z
LAST-MODIFIED:20231231T144756Z
UID:2084-1706292000-1706310000@www.ravintolapanza.fi
SUMMARY:DJ OK-M
DESCRIPTION:Funkkaa Taikka Kuole DJ:t Panzassa! 100% vinyl.
URL:https://www.ravintolapanza.fi/tapahtuma/dj-ok-m-5/
LOCATION:Ravintola Panza\, Käsityökatu 19\, Kuopio\, 70100\, Suomi
ATTACH;FMTTYPE=image/jpeg:https://www.ravintolapanza.fi/wp-content/uploads/2023/12/panza2rundi.jpeg
ORGANIZER;CN="Funkkaa Taikka Kuole":MAILTO:info@funkkaataikkakuole.com
END:VEVENT
BEGIN:VEVENT
DTSTART;TZID=Europe/Helsinki:20240120T180000
DTEND;TZID=Europe/Helsinki:20240120T230000
DTSTAMP:20260424T123403
CREATED:20231231T142456Z
LAST-MODIFIED:20231231T144821Z
UID:2082-1705773600-1705791600@www.ravintolapanza.fi
SUMMARY:DJ RR
DESCRIPTION:Funkkaa Taikka Kuole DJ:t Panzassa! 100% vinyl.
URL:https://www.ravintolapanza.fi/tapahtuma/dj-rr-8/
LOCATION:Ravintola Panza\, Käsityökatu 19\, Kuopio\, 70100\, Suomi
ATTACH;FMTTYPE=image/jpeg:https://www.ravintolapanza.fi/wp-content/uploads/2023/12/panza2rundi.jpeg
ORGANIZER;CN="Funkkaa Taikka Kuole":MAILTO:info@funkkaataikkakuole.com
END:VEVENT
BEGIN:VEVENT
DTSTART;TZID=Europe/Helsinki:20240119T180000
DTEND;TZID=Europe/Helsinki:20240119T230000
DTSTAMP:20260424T123403
CREATED:20231231T142434Z
LAST-MODIFIED:20231231T144930Z
UID:2081-1705687200-1705705200@www.ravintolapanza.fi
SUMMARY:DJ RR
DESCRIPTION:Funkkaa Taikka Kuole DJ:t Panzassa! 100% vinyl.
URL:https://www.ravintolapanza.fi/tapahtuma/dj-rr-7/
LOCATION:Ravintola Panza\, Käsityökatu 19\, Kuopio\, 70100\, Suomi
ATTACH;FMTTYPE=image/jpeg:https://www.ravintolapanza.fi/wp-content/uploads/2023/12/panza2rundi.jpeg
ORGANIZER;CN="Funkkaa Taikka Kuole":MAILTO:info@funkkaataikkakuole.com
END:VEVENT
BEGIN:VEVENT
DTSTART;TZID=Europe/Helsinki:20240113T180000
DTEND;TZID=Europe/Helsinki:20240113T230000
DTSTAMP:20260424T123403
CREATED:20231231T142353Z
LAST-MODIFIED:20231231T145007Z
UID:2079-1705168800-1705186800@www.ravintolapanza.fi
SUMMARY:DJ Juicy Leskinen
DESCRIPTION:Funkkaa Taikka Kuole DJ:t Panzassa! 100% vinyl.
URL:https://www.ravintolapanza.fi/tapahtuma/dj-juicy-leskinen-7/
LOCATION:Ravintola Panza\, Käsityökatu 19\, Kuopio\, 70100\, Suomi
ATTACH;FMTTYPE=image/jpeg:https://www.ravintolapanza.fi/wp-content/uploads/2023/12/panza2rundi.jpeg
ORGANIZER;CN="Funkkaa Taikka Kuole":MAILTO:info@funkkaataikkakuole.com
END:VEVENT
BEGIN:VEVENT
DTSTART;TZID=Europe/Helsinki:20240112T180000
DTEND;TZID=Europe/Helsinki:20240112T230000
DTSTAMP:20260424T123403
CREATED:20231231T142326Z
LAST-MODIFIED:20231231T145031Z
UID:2123-1705082400-1705100400@www.ravintolapanza.fi
SUMMARY:DJ Juicy Leskinen
DESCRIPTION:Funkkaa Taikka Kuole DJ:t Panzassa! 100% vinyl.
URL:https://www.ravintolapanza.fi/tapahtuma/dj-juicy-leskinen-6/
LOCATION:Ravintola Panza\, Käsityökatu 19\, Kuopio\, 70100\, Suomi
ATTACH;FMTTYPE=image/jpeg:https://www.ravintolapanza.fi/wp-content/uploads/2023/12/panza2rundi.jpeg
ORGANIZER;CN="Funkkaa Taikka Kuole":MAILTO:info@funkkaataikkakuole.com
END:VEVENT
BEGIN:VEVENT
DTSTART;TZID=Europe/Helsinki:20240106T180000
DTEND;TZID=Europe/Helsinki:20240106T230000
DTSTAMP:20260424T123403
CREATED:20231231T142301Z
LAST-MODIFIED:20231231T145050Z
UID:2125-1704564000-1704582000@www.ravintolapanza.fi
SUMMARY:DJ A. Lahti
DESCRIPTION:Funkkaa Taikka Kuole DJ:t Panzassa! 100% vinyl.
URL:https://www.ravintolapanza.fi/tapahtuma/dj-a-lahti-2/
LOCATION:Ravintola Panza\, Käsityökatu 19\, Kuopio\, 70100\, Suomi
ATTACH;FMTTYPE=image/jpeg:https://www.ravintolapanza.fi/wp-content/uploads/2023/12/panza2rundi.jpeg
ORGANIZER;CN="Funkkaa Taikka Kuole":MAILTO:info@funkkaataikkakuole.com
END:VEVENT
BEGIN:VEVENT
DTSTART;TZID=Europe/Helsinki:20240105T180000
DTEND;TZID=Europe/Helsinki:20240105T230000
DTSTAMP:20260424T123403
CREATED:20231231T142219Z
LAST-MODIFIED:20231231T145114Z
UID:2075-1704477600-1704495600@www.ravintolapanza.fi
SUMMARY:DJ A. Lahti
DESCRIPTION:Funkkaa Taikka Kuole DJ:t Panzassa! 100% vinyl.
URL:https://www.ravintolapanza.fi/tapahtuma/dj-a-lahti/
LOCATION:Ravintola Panza\, Käsityökatu 19\, Kuopio\, 70100\, Suomi
ATTACH;FMTTYPE=image/jpeg:https://www.ravintolapanza.fi/wp-content/uploads/2023/12/panza2rundi.jpeg
ORGANIZER;CN="Funkkaa Taikka Kuole":MAILTO:info@funkkaataikkakuole.com
END:VEVENT
BEGIN:VEVENT
DTSTART;TZID=Europe/Helsinki:20231223T180000
DTEND;TZID=Europe/Helsinki:20231223T230000
DTSTAMP:20260424T123403
CREATED:20231019T173542Z
LAST-MODIFIED:20231024T060853Z
UID:1881-1703354400-1703372400@www.ravintolapanza.fi
SUMMARY:DJ OK-M
DESCRIPTION:Funkkaa Taikka Kuole DJ:t Panzassa! 100% vinyl.
URL:https://www.ravintolapanza.fi/tapahtuma/dj-ok-m-4/
LOCATION:Ravintola Panza\, Käsityökatu 19\, Kuopio\, 70100\, Suomi
ATTACH;FMTTYPE=image/png:https://www.ravintolapanza.fi/wp-content/uploads/2023/10/ftk-dj-nettiin.png
ORGANIZER;CN="Funkkaa Taikka Kuole":MAILTO:info@funkkaataikkakuole.com
END:VEVENT
BEGIN:VEVENT
DTSTART;TZID=Europe/Helsinki:20231222T180000
DTEND;TZID=Europe/Helsinki:20231222T230000
DTSTAMP:20260424T123403
CREATED:20231019T173514Z
LAST-MODIFIED:20231024T061800Z
UID:1879-1703268000-1703286000@www.ravintolapanza.fi
SUMMARY:DJ OK-M
DESCRIPTION:Funkkaa Taikka Kuole DJ:t Panzassa! 100% vinyl.
URL:https://www.ravintolapanza.fi/tapahtuma/dj-ok-m-3/
LOCATION:Ravintola Panza\, Käsityökatu 19\, Kuopio\, 70100\, Suomi
ATTACH;FMTTYPE=image/png:https://www.ravintolapanza.fi/wp-content/uploads/2023/10/ftk-dj-nettiin.png
ORGANIZER;CN="Funkkaa Taikka Kuole":MAILTO:info@funkkaataikkakuole.com
END:VEVENT
BEGIN:VEVENT
DTSTART;TZID=Europe/Helsinki:20231216T180000
DTEND;TZID=Europe/Helsinki:20231216T230000
DTSTAMP:20260424T123403
CREATED:20231016T190151Z
LAST-MODIFIED:20231024T061908Z
UID:1819-1702749600-1702767600@www.ravintolapanza.fi
SUMMARY:DJ KK
DESCRIPTION:Funkkaa Taikka Kuole DJ:t Panzassa! 100% vinyl. \n\n 
URL:https://www.ravintolapanza.fi/tapahtuma/dj-kk-2/
LOCATION:Ravintola Panza\, Käsityökatu 19\, Kuopio\, 70100\, Suomi
ATTACH;FMTTYPE=image/png:https://www.ravintolapanza.fi/wp-content/uploads/2023/10/ftk-dj-nettiin.png
ORGANIZER;CN="Funkkaa Taikka Kuole":MAILTO:info@funkkaataikkakuole.com
END:VEVENT
BEGIN:VEVENT
DTSTART;TZID=Europe/Helsinki:20231215T180000
DTEND;TZID=Europe/Helsinki:20231215T230000
DTSTAMP:20260424T123403
CREATED:20231016T190128Z
LAST-MODIFIED:20231024T061932Z
UID:1817-1702663200-1702681200@www.ravintolapanza.fi
SUMMARY:DJ KK
DESCRIPTION:Funkkaa Taikka Kuole DJ:t Panzassa! 100% vinyl. \n\n 
URL:https://www.ravintolapanza.fi/tapahtuma/dj-kk/
LOCATION:Ravintola Panza\, Käsityökatu 19\, Kuopio\, 70100\, Suomi
ATTACH;FMTTYPE=image/png:https://www.ravintolapanza.fi/wp-content/uploads/2023/10/ftk-dj-nettiin.png
ORGANIZER;CN="Funkkaa Taikka Kuole":MAILTO:info@funkkaataikkakuole.com
END:VEVENT
BEGIN:VEVENT
DTSTART;TZID=Europe/Helsinki:20231209T233000
DTEND;TZID=Europe/Helsinki:20231210T013000
DTSTAMP:20260424T123403
CREATED:20231122T151945Z
LAST-MODIFIED:20231122T151945Z
UID:1938-1702164600-1702171800@www.ravintolapanza.fi
SUMMARY:Petosen Panimo vinyylijulkkari!
DESCRIPTION:Panzassa juhlitaan Petosen Panimon Kollektive -albumin vinyylijulkaisua!\n\nLiput 10€\, lipunmyynti vain ovelta.\n Lipunmyynti alkaa klo 23:30.\n Live klo 24
URL:https://www.ravintolapanza.fi/tapahtuma/petosen-panimo-vinyylijulkkari/
LOCATION:Ravintola Panza\, Käsityökatu 19\, Kuopio\, 70100\, Suomi
ATTACH;FMTTYPE=image/jpeg:https://www.ravintolapanza.fi/wp-content/uploads/2023/11/PAnimoPanza-FB.jpeg
ORGANIZER;CN="Funkkaa Taikka Kuole":MAILTO:info@funkkaataikkakuole.com
END:VEVENT
BEGIN:VEVENT
DTSTART;TZID=Europe/Helsinki:20231209T180000
DTEND;TZID=Europe/Helsinki:20231209T230000
DTSTAMP:20260424T123403
CREATED:20231016T185954Z
LAST-MODIFIED:20231024T062003Z
UID:1815-1702144800-1702162800@www.ravintolapanza.fi
SUMMARY:DJ RR
DESCRIPTION:Funkkaa Taikka Kuole DJ:t Panzassa! 100% vinyl.
URL:https://www.ravintolapanza.fi/tapahtuma/dj-rr-6/
LOCATION:Ravintola Panza\, Käsityökatu 19\, Kuopio\, 70100\, Suomi
ATTACH;FMTTYPE=image/png:https://www.ravintolapanza.fi/wp-content/uploads/2023/10/ftk-dj-nettiin.png
ORGANIZER;CN="Funkkaa Taikka Kuole":MAILTO:info@funkkaataikkakuole.com
END:VEVENT
BEGIN:VEVENT
DTSTART;TZID=Europe/Helsinki:20231208T180000
DTEND;TZID=Europe/Helsinki:20231208T230000
DTSTAMP:20260424T123403
CREATED:20231011T185400Z
LAST-MODIFIED:20231024T062011Z
UID:1733-1702058400-1702076400@www.ravintolapanza.fi
SUMMARY:DJ RR
DESCRIPTION:Funkkaa Taikka Kuole DJ:t Panzassa! 100% vinyl.
URL:https://www.ravintolapanza.fi/tapahtuma/dj-rr-3/
LOCATION:Ravintola Panza\, Käsityökatu 19\, Kuopio\, 70100\, Suomi
ATTACH;FMTTYPE=image/png:https://www.ravintolapanza.fi/wp-content/uploads/2023/10/ftk-dj-nettiin.png
ORGANIZER;CN="Funkkaa Taikka Kuole":MAILTO:info@funkkaataikkakuole.com
END:VEVENT
BEGIN:VEVENT
DTSTART;TZID=Europe/Helsinki:20231201T180000
DTEND;TZID=Europe/Helsinki:20231201T230000
DTSTAMP:20260424T123403
CREATED:20231010T113336Z
LAST-MODIFIED:20231024T062053Z
UID:1714-1701453600-1701471600@www.ravintolapanza.fi
SUMMARY:DJ Juicy Leskinen
DESCRIPTION:Funkkaa Taikka Kuole DJ:t Panzassa! 100% vinyl.
URL:https://www.ravintolapanza.fi/tapahtuma/dj-juicy-leskinen-3/
LOCATION:Ravintola Panza\, Käsityökatu 19\, Kuopio\, 70100\, Suomi
ATTACH;FMTTYPE=image/png:https://www.ravintolapanza.fi/wp-content/uploads/2023/10/ftk-dj-nettiin.png
ORGANIZER;CN="Funkkaa Taikka Kuole":MAILTO:info@funkkaataikkakuole.com
END:VEVENT
BEGIN:VEVENT
DTSTART;TZID=Europe/Helsinki:20231125T180000
DTEND;TZID=Europe/Helsinki:20231125T230000
DTSTAMP:20260424T123403
CREATED:20231016T185809Z
LAST-MODIFIED:20231024T062048Z
UID:1811-1700935200-1700953200@www.ravintolapanza.fi
SUMMARY:DJ RR
DESCRIPTION:Funkkaa Taikka Kuole DJ:t Panzassa! 100% vinyl.
URL:https://www.ravintolapanza.fi/tapahtuma/dj-rr-5/
LOCATION:Ravintola Panza\, Käsityökatu 19\, Kuopio\, 70100\, Suomi
ATTACH;FMTTYPE=image/png:https://www.ravintolapanza.fi/wp-content/uploads/2023/10/ftk-dj-nettiin.png
ORGANIZER;CN="Funkkaa Taikka Kuole":MAILTO:info@funkkaataikkakuole.com
END:VEVENT
BEGIN:VEVENT
DTSTART;TZID=Europe/Helsinki:20231124T180000
DTEND;TZID=Europe/Helsinki:20231124T230000
DTSTAMP:20260424T123403
CREATED:20231010T113224Z
LAST-MODIFIED:20231024T062133Z
UID:1712-1700848800-1700866800@www.ravintolapanza.fi
SUMMARY:DJ RR
DESCRIPTION:Funkkaa Taikka Kuole DJ:t Panzassa! 100% vinyl.
URL:https://www.ravintolapanza.fi/tapahtuma/dj-rr-2/
LOCATION:Ravintola Panza\, Käsityökatu 19\, Kuopio\, 70100\, Suomi
ATTACH;FMTTYPE=image/png:https://www.ravintolapanza.fi/wp-content/uploads/2023/10/ftk-dj-nettiin.png
ORGANIZER;CN="Funkkaa Taikka Kuole":MAILTO:info@funkkaataikkakuole.com
END:VEVENT
BEGIN:VEVENT
DTSTART;TZID=Europe/Helsinki:20231118T180000
DTEND;TZID=Europe/Helsinki:20231118T230000
DTSTAMP:20260424T123403
CREATED:20231016T185718Z
LAST-MODIFIED:20231024T062138Z
UID:1809-1700330400-1700348400@www.ravintolapanza.fi
SUMMARY:DJ Soul Valpio & DJ R2ISDJ2
DESCRIPTION:Funkkaa Taikka Kuole DJ:t Panzassa! 100% vinyl.
URL:https://www.ravintolapanza.fi/tapahtuma/dj-stedi-2/
LOCATION:Ravintola Panza\, Käsityökatu 19\, Kuopio\, 70100\, Suomi
ATTACH;FMTTYPE=image/png:https://www.ravintolapanza.fi/wp-content/uploads/2023/10/ftk-dj-nettiin.png
ORGANIZER;CN="Funkkaa Taikka Kuole":MAILTO:info@funkkaataikkakuole.com
END:VEVENT
BEGIN:VEVENT
DTSTART;TZID=Europe/Helsinki:20231117T180000
DTEND;TZID=Europe/Helsinki:20231117T230000
DTSTAMP:20260424T123403
CREATED:20231010T113113Z
LAST-MODIFIED:20231024T062305Z
UID:1710-1700244000-1700262000@www.ravintolapanza.fi
SUMMARY:DJ Stedi
DESCRIPTION:Funkkaa Taikka Kuole DJ:t Panzassa! 100% vinyl.
URL:https://www.ravintolapanza.fi/tapahtuma/dj-stedi/
LOCATION:Ravintola Panza\, Käsityökatu 19\, Kuopio\, 70100\, Suomi
ATTACH;FMTTYPE=image/png:https://www.ravintolapanza.fi/wp-content/uploads/2023/10/ftk-dj-nettiin.png
ORGANIZER;CN="Funkkaa Taikka Kuole":MAILTO:info@funkkaataikkakuole.com
END:VEVENT
END:VCALENDAR