BEGIN:VCALENDAR
VERSION:2.0
PRODID:-//Ravintola Panza - ECPv6.15.18//NONSGML v1.0//EN
CALSCALE:GREGORIAN
METHOD:PUBLISH
X-ORIGINAL-URL:https://www.ravintolapanza.fi
X-WR-CALDESC:Tapahtumat Ravintola Panza
REFRESH-INTERVAL;VALUE=DURATION:PT1H
X-Robots-Tag:noindex
X-PUBLISHED-TTL:PT1H
BEGIN:VTIMEZONE
TZID:Europe/Helsinki
BEGIN:DAYLIGHT
TZOFFSETFROM:+0200
TZOFFSETTO:+0300
TZNAME:EEST
DTSTART:20220327T010000
END:DAYLIGHT
BEGIN:STANDARD
TZOFFSETFROM:+0300
TZOFFSETTO:+0200
TZNAME:EET
DTSTART:20221030T010000
END:STANDARD
BEGIN:DAYLIGHT
TZOFFSETFROM:+0200
TZOFFSETTO:+0300
TZNAME:EEST
DTSTART:20230326T010000
END:DAYLIGHT
BEGIN:STANDARD
TZOFFSETFROM:+0300
TZOFFSETTO:+0200
TZNAME:EET
DTSTART:20231029T010000
END:STANDARD
BEGIN:DAYLIGHT
TZOFFSETFROM:+0200
TZOFFSETTO:+0300
TZNAME:EEST
DTSTART:20240331T010000
END:DAYLIGHT
BEGIN:STANDARD
TZOFFSETFROM:+0300
TZOFFSETTO:+0200
TZNAME:EET
DTSTART:20241027T010000
END:STANDARD
END:VTIMEZONE
BEGIN:VEVENT
DTSTART;TZID=Europe/Helsinki:20231208T180000
DTEND;TZID=Europe/Helsinki:20231208T230000
DTSTAMP:20260424T152454
CREATED:20231011T185400Z
LAST-MODIFIED:20231024T062011Z
UID:1733-1702058400-1702076400@www.ravintolapanza.fi
SUMMARY:DJ RR
DESCRIPTION:Funkkaa Taikka Kuole DJ:t Panzassa! 100% vinyl.
URL:https://www.ravintolapanza.fi/tapahtuma/dj-rr-3/
LOCATION:Ravintola Panza\, Käsityökatu 19\, Kuopio\, 70100\, Suomi
ATTACH;FMTTYPE=image/png:https://www.ravintolapanza.fi/wp-content/uploads/2023/10/ftk-dj-nettiin.png
ORGANIZER;CN="Funkkaa Taikka Kuole":MAILTO:info@funkkaataikkakuole.com
END:VEVENT
BEGIN:VEVENT
DTSTART;TZID=Europe/Helsinki:20231201T180000
DTEND;TZID=Europe/Helsinki:20231201T230000
DTSTAMP:20260424T152454
CREATED:20231010T113336Z
LAST-MODIFIED:20231024T062053Z
UID:1714-1701453600-1701471600@www.ravintolapanza.fi
SUMMARY:DJ Juicy Leskinen
DESCRIPTION:Funkkaa Taikka Kuole DJ:t Panzassa! 100% vinyl.
URL:https://www.ravintolapanza.fi/tapahtuma/dj-juicy-leskinen-3/
LOCATION:Ravintola Panza\, Käsityökatu 19\, Kuopio\, 70100\, Suomi
ATTACH;FMTTYPE=image/png:https://www.ravintolapanza.fi/wp-content/uploads/2023/10/ftk-dj-nettiin.png
ORGANIZER;CN="Funkkaa Taikka Kuole":MAILTO:info@funkkaataikkakuole.com
END:VEVENT
BEGIN:VEVENT
DTSTART;TZID=Europe/Helsinki:20231125T180000
DTEND;TZID=Europe/Helsinki:20231125T230000
DTSTAMP:20260424T152454
CREATED:20231016T185809Z
LAST-MODIFIED:20231024T062048Z
UID:1811-1700935200-1700953200@www.ravintolapanza.fi
SUMMARY:DJ RR
DESCRIPTION:Funkkaa Taikka Kuole DJ:t Panzassa! 100% vinyl.
URL:https://www.ravintolapanza.fi/tapahtuma/dj-rr-5/
LOCATION:Ravintola Panza\, Käsityökatu 19\, Kuopio\, 70100\, Suomi
ATTACH;FMTTYPE=image/png:https://www.ravintolapanza.fi/wp-content/uploads/2023/10/ftk-dj-nettiin.png
ORGANIZER;CN="Funkkaa Taikka Kuole":MAILTO:info@funkkaataikkakuole.com
END:VEVENT
BEGIN:VEVENT
DTSTART;TZID=Europe/Helsinki:20231124T180000
DTEND;TZID=Europe/Helsinki:20231124T230000
DTSTAMP:20260424T152454
CREATED:20231010T113224Z
LAST-MODIFIED:20231024T062133Z
UID:1712-1700848800-1700866800@www.ravintolapanza.fi
SUMMARY:DJ RR
DESCRIPTION:Funkkaa Taikka Kuole DJ:t Panzassa! 100% vinyl.
URL:https://www.ravintolapanza.fi/tapahtuma/dj-rr-2/
LOCATION:Ravintola Panza\, Käsityökatu 19\, Kuopio\, 70100\, Suomi
ATTACH;FMTTYPE=image/png:https://www.ravintolapanza.fi/wp-content/uploads/2023/10/ftk-dj-nettiin.png
ORGANIZER;CN="Funkkaa Taikka Kuole":MAILTO:info@funkkaataikkakuole.com
END:VEVENT
BEGIN:VEVENT
DTSTART;TZID=Europe/Helsinki:20231118T180000
DTEND;TZID=Europe/Helsinki:20231118T230000
DTSTAMP:20260424T152454
CREATED:20231016T185718Z
LAST-MODIFIED:20231024T062138Z
UID:1809-1700330400-1700348400@www.ravintolapanza.fi
SUMMARY:DJ Soul Valpio & DJ R2ISDJ2
DESCRIPTION:Funkkaa Taikka Kuole DJ:t Panzassa! 100% vinyl.
URL:https://www.ravintolapanza.fi/tapahtuma/dj-stedi-2/
LOCATION:Ravintola Panza\, Käsityökatu 19\, Kuopio\, 70100\, Suomi
ATTACH;FMTTYPE=image/png:https://www.ravintolapanza.fi/wp-content/uploads/2023/10/ftk-dj-nettiin.png
ORGANIZER;CN="Funkkaa Taikka Kuole":MAILTO:info@funkkaataikkakuole.com
END:VEVENT
BEGIN:VEVENT
DTSTART;TZID=Europe/Helsinki:20231117T180000
DTEND;TZID=Europe/Helsinki:20231117T230000
DTSTAMP:20260424T152454
CREATED:20231010T113113Z
LAST-MODIFIED:20231024T062305Z
UID:1710-1700244000-1700262000@www.ravintolapanza.fi
SUMMARY:DJ Stedi
DESCRIPTION:Funkkaa Taikka Kuole DJ:t Panzassa! 100% vinyl.
URL:https://www.ravintolapanza.fi/tapahtuma/dj-stedi/
LOCATION:Ravintola Panza\, Käsityökatu 19\, Kuopio\, 70100\, Suomi
ATTACH;FMTTYPE=image/png:https://www.ravintolapanza.fi/wp-content/uploads/2023/10/ftk-dj-nettiin.png
ORGANIZER;CN="Funkkaa Taikka Kuole":MAILTO:info@funkkaataikkakuole.com
END:VEVENT
BEGIN:VEVENT
DTSTART;TZID=Europe/Helsinki:20231112T120000
DTEND;TZID=Europe/Helsinki:20231112T170000
DTSTAMP:20260424T152454
CREATED:20231106T193239Z
LAST-MODIFIED:20231106T193527Z
UID:1893-1699790400-1699808400@www.ravintolapanza.fi
SUMMARY:Panzan isänpäiväbrunssi 12.11.
DESCRIPTION:Panzan isänpäivä sunnuntaina 12.11.! \n\n\n\nPanzassa vietetään isänpäivää kahdessa brunssikattauksessa alkaen 12:00 sekä 15:00. \n39€/henkilö \n\n\n15€/alle 12 vuotiaat \nTervetuloa! \n\n\n\n\n\n\n\n\n\n\n\n\n\n\n 
URL:https://www.ravintolapanza.fi/tapahtuma/panzan-isanpaivabrunssi-12-11/
LOCATION:Ravintola Panza\, Käsityökatu 19\, Kuopio\, 70100\, Suomi
ATTACH;FMTTYPE=image/jpeg:https://www.ravintolapanza.fi/wp-content/uploads/2023/10/isapaivamenu-e1699299309127.jpg
ORGANIZER;CN="Panza":MAILTO:info@ravintolapanza.fi
END:VEVENT
BEGIN:VEVENT
DTSTART;TZID=Europe/Helsinki:20231111T180000
DTEND;TZID=Europe/Helsinki:20231111T230000
DTSTAMP:20260424T152454
CREATED:20231016T185602Z
LAST-MODIFIED:20231024T062259Z
UID:1807-1699725600-1699743600@www.ravintolapanza.fi
SUMMARY:DJ OK-M
DESCRIPTION:Funkkaa Taikka Kuole DJ:t Panzassa! 100% vinyl.
URL:https://www.ravintolapanza.fi/tapahtuma/dj-ok-m-2/
LOCATION:Ravintola Panza\, Käsityökatu 19\, Kuopio\, 70100\, Suomi
ATTACH;FMTTYPE=image/png:https://www.ravintolapanza.fi/wp-content/uploads/2023/10/ftk-dj-nettiin.png
ORGANIZER;CN="Funkkaa Taikka Kuole":MAILTO:info@funkkaataikkakuole.com
END:VEVENT
BEGIN:VEVENT
DTSTART;TZID=Europe/Helsinki:20231110T180000
DTEND;TZID=Europe/Helsinki:20231110T230000
DTSTAMP:20260424T152454
CREATED:20231010T150047Z
LAST-MODIFIED:20231024T062253Z
UID:1707-1699639200-1699657200@www.ravintolapanza.fi
SUMMARY:DJ OK-M
DESCRIPTION:Funkkaa Taikka Kuole DJ:t Panzassa! 100% vinyl.
URL:https://www.ravintolapanza.fi/tapahtuma/dj-ok-m/
LOCATION:Ravintola Panza\, Käsityökatu 19\, Kuopio\, 70100\, Suomi
ATTACH;FMTTYPE=image/png:https://www.ravintolapanza.fi/wp-content/uploads/2023/10/ftk-dj-nettiin.png
ORGANIZER;CN="Funkkaa Taikka Kuole":MAILTO:info@funkkaataikkakuole.com
END:VEVENT
BEGIN:VEVENT
DTSTART;TZID=Europe/Helsinki:20231104T180000
DTEND;TZID=Europe/Helsinki:20231104T230000
DTSTAMP:20260424T152454
CREATED:20231016T054754Z
LAST-MODIFIED:20231024T062248Z
UID:1769-1699120800-1699138800@www.ravintolapanza.fi
SUMMARY:DJ Juicy Leskinen
DESCRIPTION:Funkkaa Taikka Kuole DJ:t Panzassa! 100% vinyl.
URL:https://www.ravintolapanza.fi/tapahtuma/dj-juicy-leskinen-5/
LOCATION:Ravintola Panza\, Käsityökatu 19\, Kuopio\, 70100\, Suomi
ATTACH;FMTTYPE=image/png:https://www.ravintolapanza.fi/wp-content/uploads/2023/10/ftk-dj-nettiin.png
ORGANIZER;CN="Funkkaa Taikka Kuole":MAILTO:info@funkkaataikkakuole.com
END:VEVENT
BEGIN:VEVENT
DTSTART;TZID=Europe/Helsinki:20231103T180000
DTEND;TZID=Europe/Helsinki:20231103T230000
DTSTAMP:20260424T152454
CREATED:20231010T112818Z
LAST-MODIFIED:20231024T062242Z
UID:1705-1699034400-1699052400@www.ravintolapanza.fi
SUMMARY:DJ Juicy Leskinen
DESCRIPTION:Funkkaa Taikka Kuole DJ:t Panzassa! 100% vinyl.
URL:https://www.ravintolapanza.fi/tapahtuma/dj-juicy-leskinen-2/
LOCATION:Ravintola Panza\, Käsityökatu 19\, Kuopio\, 70100\, Suomi
ATTACH;FMTTYPE=image/png:https://www.ravintolapanza.fi/wp-content/uploads/2023/10/ftk-dj-nettiin.png
ORGANIZER;CN="Funkkaa Taikka Kuole":MAILTO:info@funkkaataikkakuole.com
END:VEVENT
BEGIN:VEVENT
DTSTART;TZID=Europe/Helsinki:20231028T180000
DTEND;TZID=Europe/Helsinki:20231028T230000
DTSTAMP:20260424T152454
CREATED:20231016T054656Z
LAST-MODIFIED:20231101T191504Z
UID:1767-1698516000-1698534000@www.ravintolapanza.fi
SUMMARY:DJ RR
DESCRIPTION:Funkkaa Taikka Kuole DJ:t Panzassa! 100% vinyl.
URL:https://www.ravintolapanza.fi/tapahtuma/dj-rr-4/
LOCATION:Ravintola Panza\, Käsityökatu 19\, Kuopio\, 70100\, Suomi
ATTACH;FMTTYPE=image/png:https://www.ravintolapanza.fi/wp-content/uploads/2023/10/ftk-dj-nettiin.png
ORGANIZER;CN="Funkkaa Taikka Kuole":MAILTO:info@funkkaataikkakuole.com
END:VEVENT
BEGIN:VEVENT
DTSTART;TZID=Europe/Helsinki:20231027T180000
DTEND;TZID=Europe/Helsinki:20231027T230000
DTSTAMP:20260424T152454
CREATED:20231010T112521Z
LAST-MODIFIED:20231024T062324Z
UID:1703-1698429600-1698447600@www.ravintolapanza.fi
SUMMARY:DJ RR
DESCRIPTION:Funkkaa Taikka Kuole DJ:t Panzassa! 100% vinyl. \n\n 
URL:https://www.ravintolapanza.fi/tapahtuma/dj-rr/
LOCATION:Ravintola Panza\, Käsityökatu 19\, Kuopio\, 70100\, Suomi
ATTACH;FMTTYPE=image/png:https://www.ravintolapanza.fi/wp-content/uploads/2023/10/ftk-dj-nettiin.png
ORGANIZER;CN="Funkkaa Taikka Kuole":MAILTO:info@funkkaataikkakuole.com
END:VEVENT
BEGIN:VEVENT
DTSTART;TZID=Europe/Helsinki:20231021T180000
DTEND;TZID=Europe/Helsinki:20231021T230000
DTSTAMP:20260424T152454
CREATED:20231016T053906Z
LAST-MODIFIED:20231101T191342Z
UID:1761-1697911200-1697929200@www.ravintolapanza.fi
SUMMARY:DJ Juicy Leskinen
DESCRIPTION:Funkkaa Taikka Kuole DJ:t Panzassa! 100% vinyl. \n\n 
URL:https://www.ravintolapanza.fi/tapahtuma/dj-juicy-leskinen-4/
LOCATION:Ravintola Panza\, Käsityökatu 19\, Kuopio\, 70100\, Suomi
ATTACH;FMTTYPE=image/png:https://www.ravintolapanza.fi/wp-content/uploads/2023/10/ftk-dj-nettiin.png
ORGANIZER;CN="Funkkaa Taikka Kuole":MAILTO:info@funkkaataikkakuole.com
END:VEVENT
BEGIN:VEVENT
DTSTART;TZID=Europe/Helsinki:20231020T180000
DTEND;TZID=Europe/Helsinki:20231020T230000
DTSTAMP:20260424T152454
CREATED:20231010T112318Z
LAST-MODIFIED:20231101T191421Z
UID:1701-1697824800-1697842800@www.ravintolapanza.fi
SUMMARY:DJ Juicy Leskinen
DESCRIPTION:Funkkaa Taikka Kuole DJ:t Panzassa! 100% vinyl. \n\n 
URL:https://www.ravintolapanza.fi/tapahtuma/dj-juicy-leskinen/
LOCATION:Ravintola Panza\, Käsityökatu 19\, Kuopio\, 70100\, Suomi
ATTACH;FMTTYPE=image/png:https://www.ravintolapanza.fi/wp-content/uploads/2023/10/ftk-dj-nettiin.png
ORGANIZER;CN="Funkkaa Taikka Kuole":MAILTO:info@funkkaataikkakuole.com
END:VEVENT
END:VCALENDAR