BEGIN:VCALENDAR
VERSION:2.0
PRODID:-//Ravintola Panza - ECPv6.15.18//NONSGML v1.0//EN
CALSCALE:GREGORIAN
METHOD:PUBLISH
X-WR-CALNAME:Ravintola Panza
X-ORIGINAL-URL:https://www.ravintolapanza.fi
X-WR-CALDESC:Tapahtumat Ravintola Panza
REFRESH-INTERVAL;VALUE=DURATION:PT1H
X-Robots-Tag:noindex
X-PUBLISHED-TTL:PT1H
BEGIN:VTIMEZONE
TZID:Europe/Helsinki
BEGIN:DAYLIGHT
TZOFFSETFROM:+0200
TZOFFSETTO:+0300
TZNAME:EEST
DTSTART:20240331T010000
END:DAYLIGHT
BEGIN:STANDARD
TZOFFSETFROM:+0300
TZOFFSETTO:+0200
TZNAME:EET
DTSTART:20241027T010000
END:STANDARD
BEGIN:DAYLIGHT
TZOFFSETFROM:+0200
TZOFFSETTO:+0300
TZNAME:EEST
DTSTART:20250330T010000
END:DAYLIGHT
BEGIN:STANDARD
TZOFFSETFROM:+0300
TZOFFSETTO:+0200
TZNAME:EET
DTSTART:20251026T010000
END:STANDARD
BEGIN:DAYLIGHT
TZOFFSETFROM:+0200
TZOFFSETTO:+0300
TZNAME:EEST
DTSTART:20260329T010000
END:DAYLIGHT
BEGIN:STANDARD
TZOFFSETFROM:+0300
TZOFFSETTO:+0200
TZNAME:EET
DTSTART:20261025T010000
END:STANDARD
END:VTIMEZONE
BEGIN:VEVENT
DTSTART;TZID=Europe/Helsinki:20250524T180000
DTEND;TZID=Europe/Helsinki:20250524T230000
DTSTAMP:20260419T181032
CREATED:20250403T161403Z
LAST-MODIFIED:20250403T161403Z
UID:2724-1748109600-1748127600@www.ravintolapanza.fi
SUMMARY:DJ OK-M
DESCRIPTION:Funkkaa Taikka Kuole DJ:t Panzassa! 100% vinyl. \nVinyylit pyörivät Panzan levylautasella viikonloppuiltaisin klo 18-23 ja tarvittaessa pidempäänkin. Joka viikonloppu vaihtuvat DJ:t tuovat oman musiikkiselektionsa mausteeksi Panzan tunnelmaan.
URL:https://www.ravintolapanza.fi/tapahtuma/dj-ok-m-38/
LOCATION:Ravintola Panza\, Käsityökatu 19\, Kuopio\, 70100\, Suomi
ATTACH;FMTTYPE=image/jpeg:https://www.ravintolapanza.fi/wp-content/uploads/2025/04/IMG-20250321-WA0000.jpg
ORGANIZER;CN="Funkkaa Taikka Kuole":MAILTO:info@funkkaataikkakuole.com
END:VEVENT
BEGIN:VEVENT
DTSTART;TZID=Europe/Helsinki:20250523T180000
DTEND;TZID=Europe/Helsinki:20250523T230000
DTSTAMP:20260419T181032
CREATED:20250403T161328Z
LAST-MODIFIED:20250403T161328Z
UID:2722-1748023200-1748041200@www.ravintolapanza.fi
SUMMARY:DJ OK-M
DESCRIPTION:Funkkaa Taikka Kuole DJ:t Panzassa! 100% vinyl. \nVinyylit pyörivät Panzan levylautasella viikonloppuiltaisin klo 18-23 ja tarvittaessa pidempäänkin. Joka viikonloppu vaihtuvat DJ:t tuovat oman musiikkiselektionsa mausteeksi Panzan tunnelmaan.
URL:https://www.ravintolapanza.fi/tapahtuma/dj-ok-m-37/
LOCATION:Ravintola Panza\, Käsityökatu 19\, Kuopio\, 70100\, Suomi
ATTACH;FMTTYPE=image/jpeg:https://www.ravintolapanza.fi/wp-content/uploads/2025/04/IMG-20250321-WA0000.jpg
ORGANIZER;CN="Funkkaa Taikka Kuole":MAILTO:info@funkkaataikkakuole.com
END:VEVENT
BEGIN:VEVENT
DTSTART;TZID=Europe/Helsinki:20250517T180000
DTEND;TZID=Europe/Helsinki:20250517T230000
DTSTAMP:20260419T181032
CREATED:20250403T161238Z
LAST-MODIFIED:20250403T161238Z
UID:2720-1747504800-1747522800@www.ravintolapanza.fi
SUMMARY:DJ JUICY L
DESCRIPTION:Funkkaa Taikka Kuole DJ:t Panzassa! 100% vinyl. \nVinyylit pyörivät Panzan levylautasella viikonloppuiltaisin klo 18-23 ja tarvittaessa pidempäänkin. Joka viikonloppu vaihtuvat DJ:t tuovat oman musiikkiselektionsa mausteeksi Panzan tunnelmaan.
URL:https://www.ravintolapanza.fi/tapahtuma/dj-juicy-l-21/
LOCATION:Ravintola Panza\, Käsityökatu 19\, Kuopio\, 70100\, Suomi
ATTACH;FMTTYPE=image/jpeg:https://www.ravintolapanza.fi/wp-content/uploads/2025/04/IMG-20250321-WA0000.jpg
ORGANIZER;CN="Funkkaa Taikka Kuole":MAILTO:info@funkkaataikkakuole.com
END:VEVENT
BEGIN:VEVENT
DTSTART;TZID=Europe/Helsinki:20250516T180000
DTEND;TZID=Europe/Helsinki:20250516T230000
DTSTAMP:20260419T181032
CREATED:20250403T161151Z
LAST-MODIFIED:20250403T161151Z
UID:2718-1747418400-1747436400@www.ravintolapanza.fi
SUMMARY:DJ JUICY L
DESCRIPTION:Funkkaa Taikka Kuole DJ:t Panzassa! 100% vinyl. \nVinyylit pyörivät Panzan levylautasella viikonloppuiltaisin klo 18-23 ja tarvittaessa pidempäänkin. Joka viikonloppu vaihtuvat DJ:t tuovat oman musiikkiselektionsa mausteeksi Panzan tunnelmaan.
URL:https://www.ravintolapanza.fi/tapahtuma/dj-juicy-l-20/
LOCATION:Ravintola Panza\, Käsityökatu 19\, Kuopio\, 70100\, Suomi
ATTACH;FMTTYPE=image/jpeg:https://www.ravintolapanza.fi/wp-content/uploads/2025/04/IMG-20250321-WA0000.jpg
ORGANIZER;CN="Funkkaa Taikka Kuole":MAILTO:info@funkkaataikkakuole.com
END:VEVENT
BEGIN:VEVENT
DTSTART;TZID=Europe/Helsinki:20250511T120000
DTEND;TZID=Europe/Helsinki:20250511T160000
DTSTAMP:20260419T181032
CREATED:20250430T114510Z
LAST-MODIFIED:20250504T175720Z
UID:2759-1746964800-1746979200@www.ravintolapanza.fi
SUMMARY:Äitienpäivä Panzassa
DESCRIPTION:Äitienpäivä Panzassa sunnuntaina 11.5.\nKlo 12-16\n39€/hlö\, lapset 15€ \nTervetuloa! \nAlkuruoka\nAquachile de Mariscos (M\, G)\nJättirapua ja kirjolohta raikkaassa lime-koriantetriliemessä.\nPrawn and rainbow trout in fresh lime-cilantro marinade. \nGazpacho de Esparragos (M\, G)\nRaikas parsagazpacho limellä ja chililä maustetuna. \nTarjoillaan kylmänä.\nChilled asparagus soup with lime and chili. \nPääruoka\nSisältää kolme maissilettuun tehtyä tacoa.\nIncludes three corn tortillas. \nCarnitas (M\, G)\nRevittyä possua\, paprikasalsaa ja keltasipulia.\nPulled pork\, bell pepper salsa and onion. \nPescado (M\, G)\nFriteerattua kuhaa\, varhaiskaalia ja chili-sitrusaioli.\nDeep fried pike perch\, spring gabbage and chili-citrusaioli. \nVegetarianos (M\, G)\nPaahdettua kesäkurpitsaa ja maissia\,\nfrijolesta\, queso frescoa ja kurpitsansiemeniä.\nRoasted zucchini and corn\, frijoles\,\nqueso fresco and toasted pumpkin seeds. \nJälkiruokapöytä\nTäytekakkua (L)\, Juustokakkua (L\, G)\nHedelmiä (M\, G)\, Kahvia ja teetä \nLasten menu\nNachot ja dippi (salsa roja\, creme fraiche tai quacamole) \nKana quesadilla tai friteerattu kuha\nRanskalaiset\, salaatti ja ketsuppi.
URL:https://www.ravintolapanza.fi/tapahtuma/aitienpaiva-panzassa/
LOCATION:Ravintola Panza\, Käsityökatu 19\, Kuopio\, 70100\, Suomi
ATTACH;FMTTYPE=image/jpeg:https://www.ravintolapanza.fi/wp-content/uploads/2025/04/aitienpaivaevent-1.jpg
ORGANIZER;CN="Panza":MAILTO:info@ravintolapanza.fi
END:VEVENT
BEGIN:VEVENT
DTSTART;TZID=Europe/Helsinki:20250510T180000
DTEND;TZID=Europe/Helsinki:20250510T230000
DTSTAMP:20260419T181032
CREATED:20250403T161032Z
LAST-MODIFIED:20250403T161032Z
UID:2716-1746900000-1746918000@www.ravintolapanza.fi
SUMMARY:DJ RR
DESCRIPTION:Funkkaa Taikka Kuole DJ:t Panzassa! 100% vinyl. \nVinyylit pyörivät Panzan levylautasella viikonloppuiltaisin klo 18-23 ja tarvittaessa pidempäänkin. Joka viikonloppu vaihtuvat DJ:t tuovat oman musiikkiselektionsa mausteeksi Panzan tunnelmaan.
URL:https://www.ravintolapanza.fi/tapahtuma/dj-rr-39/
LOCATION:Ravintola Panza\, Käsityökatu 19\, Kuopio\, 70100\, Suomi
ATTACH;FMTTYPE=image/jpeg:https://www.ravintolapanza.fi/wp-content/uploads/2025/04/IMG-20250321-WA0000.jpg
ORGANIZER;CN="Funkkaa Taikka Kuole":MAILTO:info@funkkaataikkakuole.com
END:VEVENT
BEGIN:VEVENT
DTSTART;TZID=Europe/Helsinki:20250509T180000
DTEND;TZID=Europe/Helsinki:20250509T230000
DTSTAMP:20260419T181032
CREATED:20250403T161002Z
LAST-MODIFIED:20250403T161002Z
UID:2714-1746813600-1746831600@www.ravintolapanza.fi
SUMMARY:DJ RR
DESCRIPTION:Funkkaa Taikka Kuole DJ:t Panzassa! 100% vinyl. \nVinyylit pyörivät Panzan levylautasella viikonloppuiltaisin klo 18-23 ja tarvittaessa pidempäänkin. Joka viikonloppu vaihtuvat DJ:t tuovat oman musiikkiselektionsa mausteeksi Panzan tunnelmaan.
URL:https://www.ravintolapanza.fi/tapahtuma/dj-rr-38/
LOCATION:Ravintola Panza\, Käsityökatu 19\, Kuopio\, 70100\, Suomi
ATTACH;FMTTYPE=image/jpeg:https://www.ravintolapanza.fi/wp-content/uploads/2025/04/IMG-20250321-WA0000.jpg
ORGANIZER;CN="Funkkaa Taikka Kuole":MAILTO:info@funkkaataikkakuole.com
END:VEVENT
BEGIN:VEVENT
DTSTART;TZID=Europe/Helsinki:20250503T220000
DTEND;TZID=Europe/Helsinki:20250504T023000
DTSTAMP:20260419T181032
CREATED:20250415T185345Z
LAST-MODIFIED:20250415T185631Z
UID:2752-1746309600-1746325800@www.ravintolapanza.fi
SUMMARY:FTK Live; Jodarok & Edu Kehäkettunen
DESCRIPTION:⭐ Jodarok palaa soolotuotannon pariin 13 vuoden jälkeen uudella ”Lokki” albumillaan! \n  \n⭐ Myös Edu Kehäkettu on julkaissut uuden albumin ”Ganjamies”. \n  \nLevyjulkkareita juhlitaan Kuopion Panzassa lauantaina 3.5.2025. \n  \n⏰ Lipunmyynti ovelta alkaa klo 22 \n⏰ Live alkaa klo 24 \n💸 Liput 15€ \nEnnakkoliput:  \nhttps://funkkaataikkakuole.sumupstore.com/tuote/ennakkolippu-jodarok-and-edu-at-panza
URL:https://www.ravintolapanza.fi/tapahtuma/ftk-live-jodarok-edu-kehakettunen/
LOCATION:Ravintola Panza\, Käsityökatu 19\, Kuopio\, 70100\, Suomi
ATTACH;FMTTYPE=image/jpeg:https://www.ravintolapanza.fi/wp-content/uploads/2025/04/FB_IMG_1744742846180.jpg
ORGANIZER;CN="Funkkaa Taikka Kuole":MAILTO:info@funkkaataikkakuole.com
END:VEVENT
BEGIN:VEVENT
DTSTART;TZID=Europe/Helsinki:20250503T180000
DTEND;TZID=Europe/Helsinki:20250503T230000
DTSTAMP:20260419T181032
CREATED:20250403T160919Z
LAST-MODIFIED:20250403T160919Z
UID:2712-1746295200-1746313200@www.ravintolapanza.fi
SUMMARY:DJ KORH-1
DESCRIPTION:Funkkaa Taikka Kuole DJ:t Panzassa! 100% vinyl. \nVinyylit pyörivät Panzan levylautasella viikonloppuiltaisin klo 18-23 ja tarvittaessa pidempäänkin. Joka viikonloppu vaihtuvat DJ:t tuovat oman musiikkiselektionsa mausteeksi Panzan tunnelmaan.
URL:https://www.ravintolapanza.fi/tapahtuma/dj-korh-1-2/
LOCATION:Ravintola Panza\, Käsityökatu 19\, Kuopio\, 70100\, Suomi
ATTACH;FMTTYPE=image/jpeg:https://www.ravintolapanza.fi/wp-content/uploads/2025/04/IMG-20250321-WA0000.jpg
ORGANIZER;CN="Funkkaa Taikka Kuole":MAILTO:info@funkkaataikkakuole.com
END:VEVENT
BEGIN:VEVENT
DTSTART;TZID=Europe/Helsinki:20250502T180000
DTEND;TZID=Europe/Helsinki:20250502T230000
DTSTAMP:20260419T181032
CREATED:20250403T160845Z
LAST-MODIFIED:20250403T160845Z
UID:2710-1746208800-1746226800@www.ravintolapanza.fi
SUMMARY:DJ KORH-1
DESCRIPTION:Funkkaa Taikka Kuole DJ:t Panzassa! 100% vinyl. \nVinyylit pyörivät Panzan levylautasella viikonloppuiltaisin klo 18-23 ja tarvittaessa pidempäänkin. Joka viikonloppu vaihtuvat DJ:t tuovat oman musiikkiselektionsa mausteeksi Panzan tunnelmaan.
URL:https://www.ravintolapanza.fi/tapahtuma/dj-korh-1/
LOCATION:Ravintola Panza\, Käsityökatu 19\, Kuopio\, 70100\, Suomi
ATTACH;FMTTYPE=image/jpeg:https://www.ravintolapanza.fi/wp-content/uploads/2025/04/IMG-20250321-WA0000.jpg
ORGANIZER;CN="Funkkaa Taikka Kuole":MAILTO:info@funkkaataikkakuole.com
END:VEVENT
BEGIN:VEVENT
DTSTART;TZID=Europe/Helsinki:20250501T120000
DTEND;TZID=Europe/Helsinki:20250501T160000
DTSTAMP:20260419T181032
CREATED:20250411T054347Z
LAST-MODIFIED:20250411T102820Z
UID:2740-1746100800-1746115200@www.ravintolapanza.fi
SUMMARY:Vappubrunssi 1.5.2025
DESCRIPTION:Vappubrunssi 1.5. \nEnsimmäinen kattaus klo 12.\nToinen kattaus klo 14.\n39€/hlö\, 9\,90€/lapsi\, 0-3v ilmaiseksi \nVaraa pöytä 044 7060800! \nMENU:\nPanzan salaattia & Tomaattivinaigrette (M\, G)\nCaesarsalaattia (L\, G\, sis. kalaa) ja krutonkeja (M)\nEsquites (Meksikolainen maissisalaatti) (L\, G)\nChorizo-perunasalaattia (M\, G)\nKirjolohimoussea (L\, G) \nEstofado de Cerdo / Hongos (M\, G)\n(haudutettua porsasta / sieniä)\nYrttiriisiä (M\, G)\nTortilloja (M)\nJauhelihaa (M\, G)\nSalsa Rojaa (M\, G)\nCreme Fraichea (L\, G) \nChili-Suklaajuustokakkua (L\, G)\nMunkkeja (L)\nHedelmiä (M\, G) \nPanzan lemonadea & simaa\nKahvi & Tee
URL:https://www.ravintolapanza.fi/tapahtuma/vappubrunssi/
LOCATION:Ravintola Panza\, Käsityökatu 19\, Kuopio\, 70100\, Suomi
ATTACH;FMTTYPE=image/jpeg:https://www.ravintolapanza.fi/wp-content/uploads/2025/04/panza-vappu-brunssi-event.jpg
ORGANIZER;CN="Panza":MAILTO:info@ravintolapanza.fi
END:VEVENT
BEGIN:VEVENT
DTSTART;TZID=Europe/Helsinki:20250426T180000
DTEND;TZID=Europe/Helsinki:20250426T230000
DTSTAMP:20260419T181032
CREATED:20250403T160755Z
LAST-MODIFIED:20250403T160755Z
UID:2708-1745690400-1745708400@www.ravintolapanza.fi
SUMMARY:DJ JUICY L
DESCRIPTION:Funkkaa Taikka Kuole DJ:t Panzassa! 100% vinyl. \nVinyylit pyörivät Panzan levylautasella viikonloppuiltaisin klo 18-23 ja tarvittaessa pidempäänkin. Joka viikonloppu vaihtuvat DJ:t tuovat oman musiikkiselektionsa mausteeksi Panzan tunnelmaan.
URL:https://www.ravintolapanza.fi/tapahtuma/dj-juicy-l-19/
LOCATION:Ravintola Panza\, Käsityökatu 19\, Kuopio\, 70100\, Suomi
ATTACH;FMTTYPE=image/jpeg:https://www.ravintolapanza.fi/wp-content/uploads/2025/04/IMG-20250321-WA0000.jpg
ORGANIZER;CN="Funkkaa Taikka Kuole":MAILTO:info@funkkaataikkakuole.com
END:VEVENT
BEGIN:VEVENT
DTSTART;TZID=Europe/Helsinki:20250425T180000
DTEND;TZID=Europe/Helsinki:20250425T230000
DTSTAMP:20260419T181032
CREATED:20250403T160643Z
LAST-MODIFIED:20250403T160723Z
UID:2705-1745604000-1745622000@www.ravintolapanza.fi
SUMMARY:DJ JUICY L
DESCRIPTION:Funkkaa Taikka Kuole DJ:t Panzassa! 100% vinyl. \nVinyylit pyörivät Panzan levylautasella viikonloppuiltaisin klo 18-23 ja tarvittaessa pidempäänkin. Joka viikonloppu vaihtuvat DJ:t tuovat oman musiikkiselektionsa mausteeksi Panzan tunnelmaan.
URL:https://www.ravintolapanza.fi/tapahtuma/dj-rr-37/
LOCATION:Ravintola Panza\, Käsityökatu 19\, Kuopio\, 70100\, Suomi
ATTACH;FMTTYPE=image/jpeg:https://www.ravintolapanza.fi/wp-content/uploads/2025/04/IMG-20250321-WA0000.jpg
ORGANIZER;CN="Funkkaa Taikka Kuole":MAILTO:info@funkkaataikkakuole.com
END:VEVENT
BEGIN:VEVENT
DTSTART;TZID=Europe/Helsinki:20250418T180000
DTEND;TZID=Europe/Helsinki:20250418T230000
DTSTAMP:20260419T181032
CREATED:20250403T160610Z
LAST-MODIFIED:20250403T160610Z
UID:2703-1744999200-1745017200@www.ravintolapanza.fi
SUMMARY:DJ RR
DESCRIPTION:Funkkaa Taikka Kuole DJ:t Panzassa! 100% vinyl. \nVinyylit pyörivät Panzan levylautasella viikonloppuiltaisin klo 18-23 ja tarvittaessa pidempäänkin. Joka viikonloppu vaihtuvat DJ:t tuovat oman musiikkiselektionsa mausteeksi Panzan tunnelmaan.
URL:https://www.ravintolapanza.fi/tapahtuma/dj-rr-36/
LOCATION:Ravintola Panza\, Käsityökatu 19\, Kuopio\, 70100\, Suomi
ATTACH;FMTTYPE=image/jpeg:https://www.ravintolapanza.fi/wp-content/uploads/2025/04/IMG-20250321-WA0000.jpg
ORGANIZER;CN="Funkkaa Taikka Kuole":MAILTO:info@funkkaataikkakuole.com
END:VEVENT
BEGIN:VEVENT
DTSTART;TZID=Europe/Helsinki:20250412T180000
DTEND;TZID=Europe/Helsinki:20250412T230000
DTSTAMP:20260419T181032
CREATED:20250403T160440Z
LAST-MODIFIED:20250403T160440Z
UID:2701-1744480800-1744498800@www.ravintolapanza.fi
SUMMARY:DJ STEDI
DESCRIPTION:Funkkaa Taikka Kuole DJ:t Panzassa! 100% vinyl. \nVinyylit pyörivät Panzan levylautasella viikonloppuiltaisin klo 18-23 ja tarvittaessa pidempäänkin. Joka viikonloppu vaihtuvat DJ:t tuovat oman musiikkiselektionsa mausteeksi Panzan tunnelmaan.
URL:https://www.ravintolapanza.fi/tapahtuma/dj-stedi-8/
LOCATION:Ravintola Panza\, Käsityökatu 19\, Kuopio\, 70100\, Suomi
ATTACH;FMTTYPE=image/jpeg:https://www.ravintolapanza.fi/wp-content/uploads/2025/04/IMG-20250321-WA0000.jpg
ORGANIZER;CN="Funkkaa Taikka Kuole":MAILTO:info@funkkaataikkakuole.com
END:VEVENT
BEGIN:VEVENT
DTSTART;TZID=Europe/Helsinki:20250411T180000
DTEND;TZID=Europe/Helsinki:20250411T230000
DTSTAMP:20260419T181032
CREATED:20250403T160242Z
LAST-MODIFIED:20250403T160242Z
UID:2697-1744394400-1744412400@www.ravintolapanza.fi
SUMMARY:DJ OK-M
DESCRIPTION:Funkkaa Taikka Kuole DJ:t Panzassa! 100% vinyl. \nVinyylit pyörivät Panzan levylautasella viikonloppuiltaisin klo 18-23 ja tarvittaessa pidempäänkin. Joka viikonloppu vaihtuvat DJ:t tuovat oman musiikkiselektionsa mausteeksi Panzan tunnelmaan.
URL:https://www.ravintolapanza.fi/tapahtuma/dj-ok-m-36/
LOCATION:Ravintola Panza\, Käsityökatu 19\, Kuopio\, 70100\, Suomi
ATTACH;FMTTYPE=image/jpeg:https://www.ravintolapanza.fi/wp-content/uploads/2025/04/IMG-20250321-WA0000.jpg
ORGANIZER;CN="Funkkaa Taikka Kuole":MAILTO:info@funkkaataikkakuole.com
END:VEVENT
BEGIN:VEVENT
DTSTART;TZID=Europe/Helsinki:20250405T230000
DTEND;TZID=Europe/Helsinki:20250406T003000
DTSTAMP:20260419T181032
CREATED:20250321T102640Z
LAST-MODIFIED:20250321T102825Z
UID:2688-1743894000-1743899400@www.ravintolapanza.fi
SUMMARY:DJ Miky Mau & RAPaoke
DESCRIPTION:RAPaoke on Rauha Trion konsepti jota vetää Miky Mau. Idea on sama kuin karaokessa mutta räppäämäällä! RAPaoke versiot biiseistä sisältää taustan\, videon ja biisin mukana etenevät sanoitukset. \nVideotykki ja äänentoisto rakennetaan valmiuteen klo 23. \nVapaa pääsy\, tervetuloa! \n \nBIISILISTA: \nENGLISH:\n*Coolio – Gansta’s Paradise \n*Gangstarr – Full Clip \n*The Notorious B.I.G. – Juicy \n*Luniz – I got 5 on it\n*Nine feat. Smooth Da Hustler – Make or Take\n*50 Cent – In Da Club \n*Ice Cube – Today was a good day \n*Snoop Dogg – Who Am I (What’s my name) \nSUOMI/FINNISH:\n*Julma-Henri & Asa – RikRek (Rikosrekisteri)\n*Fintelligens – Voittamaton \n*Stig Dogg – Vadelmasuklaa \n*Jukka Poika – Silkkii \n*MC Taakibörsta – PA 2001 (Videoversio)\n*Asa – Ota hitaammin/Hidastaa\n*Avain – Punainen tiili\n*Ruger Hauer – Täällä\n*Solonen & Kosola feat. Alamaa – Läski\n*Eevil Stöö X KoksuKoo – Kumme Kuollaan\n*Lika-Aki & Perhosveitsi Heikki – Aakkoset\n*HKI Crates feat. Solonen & Kosola – Spessujopo\n*Kemmuru – Koputa Puuta\n*Huge L – Ränsistynyt Talo (ILS rapaoke)\n*Stepa – Vapaapäivä\n*Jodarok – Anna Riikinkukon lentää \n 
URL:https://www.ravintolapanza.fi/tapahtuma/dj-miky-mau-rapaoke/
LOCATION:Ravintola Panza\, Käsityökatu 19\, Kuopio\, 70100\, Suomi
ATTACH;FMTTYPE=image/jpeg:https://www.ravintolapanza.fi/wp-content/uploads/2025/03/PANZA-rapaoke-FB-pien.jpg
ORGANIZER;CN="Funkkaa Taikka Kuole":MAILTO:info@funkkaataikkakuole.com
END:VEVENT
BEGIN:VEVENT
DTSTART;TZID=Europe/Helsinki:20250404T180000
DTEND;TZID=Europe/Helsinki:20250404T230000
DTSTAMP:20260419T181032
CREATED:20250403T155830Z
LAST-MODIFIED:20250403T160126Z
UID:2693-1743789600-1743807600@www.ravintolapanza.fi
SUMMARY:DJ LIESITUULETIN
DESCRIPTION:Funkkaa Taikka Kuole DJ:t Panzassa! 100% vinyl. \nVinyylit pyörivät Panzan levylautasella viikonloppuiltaisin klo 18-23 ja tarvittaessa pidempäänkin. Joka viikonloppu vaihtuvat DJ:t tuovat oman musiikkiselektionsa mausteeksi Panzan tunnelmaan.
URL:https://www.ravintolapanza.fi/tapahtuma/dj-liesituuletin-3/
LOCATION:Ravintola Panza\, Käsityökatu 19\, Kuopio\, 70100\, Suomi
ATTACH;FMTTYPE=image/jpeg:https://www.ravintolapanza.fi/wp-content/uploads/2025/04/IMG-20250321-WA0000.jpg
ORGANIZER;CN="Funkkaa Taikka Kuole":MAILTO:info@funkkaataikkakuole.com
END:VEVENT
BEGIN:VEVENT
DTSTART;TZID=Europe/Helsinki:20250329T180000
DTEND;TZID=Europe/Helsinki:20250329T230000
DTSTAMP:20260419T181032
CREATED:20241228T075808Z
LAST-MODIFIED:20241228T075808Z
UID:2631-1743271200-1743289200@www.ravintolapanza.fi
SUMMARY:DJ RR
DESCRIPTION:Funkkaa Taikka Kuole DJ:t Panzassa! 100% vinyl. \nVinyylit pyörivät Panzan levylautasella viikonloppuiltaisin klo 18-23 ja tarvittaessa pidempäänkin. Joka viikonloppu vaihtuvat DJ:t tuovat oman musiikkiselektionsa mausteeksi Panzan tunnelmaan.
URL:https://www.ravintolapanza.fi/tapahtuma/dj-rr-35/
LOCATION:Ravintola Panza\, Käsityökatu 19\, Kuopio\, 70100\, Suomi
ATTACH;FMTTYPE=image/jpeg:https://www.ravintolapanza.fi/wp-content/uploads/2024/12/PANZA_1_fb.jpg
ORGANIZER;CN="Funkkaa Taikka Kuole":MAILTO:info@funkkaataikkakuole.com
END:VEVENT
BEGIN:VEVENT
DTSTART;TZID=Europe/Helsinki:20250328T180000
DTEND;TZID=Europe/Helsinki:20250328T230000
DTSTAMP:20260419T181032
CREATED:20241228T075653Z
LAST-MODIFIED:20241228T075722Z
UID:2626-1743184800-1743202800@www.ravintolapanza.fi
SUMMARY:DJ RR
DESCRIPTION:Funkkaa Taikka Kuole DJ:t Panzassa! 100% vinyl. \nVinyylit pyörivät Panzan levylautasella viikonloppuiltaisin klo 18-23 ja tarvittaessa pidempäänkin. Joka viikonloppu vaihtuvat DJ:t tuovat oman musiikkiselektionsa mausteeksi Panzan tunnelmaan.
URL:https://www.ravintolapanza.fi/tapahtuma/dj-juicy-l-17/
LOCATION:Ravintola Panza\, Käsityökatu 19\, Kuopio\, 70100\, Suomi
ATTACH;FMTTYPE=image/jpeg:https://www.ravintolapanza.fi/wp-content/uploads/2024/12/PANZA_1_fb.jpg
ORGANIZER;CN="Funkkaa Taikka Kuole":MAILTO:info@funkkaataikkakuole.com
END:VEVENT
BEGIN:VEVENT
DTSTART;TZID=Europe/Helsinki:20250322T180000
DTEND;TZID=Europe/Helsinki:20250322T230000
DTSTAMP:20260419T181032
CREATED:20241228T075746Z
LAST-MODIFIED:20241228T075746Z
UID:2629-1742666400-1742684400@www.ravintolapanza.fi
SUMMARY:DJ Juicy L
DESCRIPTION:Funkkaa Taikka Kuole DJ:t Panzassa! 100% vinyl. \nVinyylit pyörivät Panzan levylautasella viikonloppuiltaisin klo 18-23 ja tarvittaessa pidempäänkin. Joka viikonloppu vaihtuvat DJ:t tuovat oman musiikkiselektionsa mausteeksi Panzan tunnelmaan.
URL:https://www.ravintolapanza.fi/tapahtuma/dj-juicy-l-18/
LOCATION:Ravintola Panza\, Käsityökatu 19\, Kuopio\, 70100\, Suomi
ATTACH;FMTTYPE=image/jpeg:https://www.ravintolapanza.fi/wp-content/uploads/2024/12/PANZA_1_fb.jpg
ORGANIZER;CN="Funkkaa Taikka Kuole":MAILTO:info@funkkaataikkakuole.com
END:VEVENT
BEGIN:VEVENT
DTSTART;TZID=Europe/Helsinki:20250321T180000
DTEND;TZID=Europe/Helsinki:20250321T230000
DTSTAMP:20260419T181032
CREATED:20241228T075602Z
LAST-MODIFIED:20241228T075630Z
UID:2623-1742580000-1742598000@www.ravintolapanza.fi
SUMMARY:DJ Juicy L
DESCRIPTION:Funkkaa Taikka Kuole DJ:t Panzassa! 100% vinyl. \nVinyylit pyörivät Panzan levylautasella viikonloppuiltaisin klo 18-23 ja tarvittaessa pidempäänkin. Joka viikonloppu vaihtuvat DJ:t tuovat oman musiikkiselektionsa mausteeksi Panzan tunnelmaan.
URL:https://www.ravintolapanza.fi/tapahtuma/dj-ok-m-35/
LOCATION:Ravintola Panza\, Käsityökatu 19\, Kuopio\, 70100\, Suomi
ATTACH;FMTTYPE=image/jpeg:https://www.ravintolapanza.fi/wp-content/uploads/2024/12/PANZA_1_fb.jpg
ORGANIZER;CN="Funkkaa Taikka Kuole":MAILTO:info@funkkaataikkakuole.com
END:VEVENT
BEGIN:VEVENT
DTSTART;TZID=Europe/Helsinki:20250321T110000
DTEND;TZID=Europe/Helsinki:20250321T133000
DTSTAMP:20260419T181032
CREATED:20250218T143534Z
LAST-MODIFIED:20250219T102541Z
UID:2678-1742554800-1742563800@www.ravintolapanza.fi
SUMMARY:Panzan tortilla buffa -lounas
DESCRIPTION:Tortilla buffat taas tarjolla:\nPe 28.2. | Pe 14.3. | Pe 21.3. \nSisältää lihan\, vegen\, salaattipöydän sekä tortillat\, jotka voit\nkasata itse buffetpöydästämme. Myös pieni jälkkäri ja kahvi tai tee. \nLounas klo 11-13:30\, hinta 15€ \nALL YOU CAN ROLL!
URL:https://www.ravintolapanza.fi/tapahtuma/panzan-tortilla-buffa-lounas-7/
LOCATION:Ravintola Panza\, Käsityökatu 19\, Kuopio\, 70100\, Suomi
ATTACH;FMTTYPE=image/jpeg:https://www.ravintolapanza.fi/wp-content/uploads/2025/02/PANZA_1_fb_buffa3.jpg
ORGANIZER;CN="Panza":MAILTO:info@ravintolapanza.fi
END:VEVENT
BEGIN:VEVENT
DTSTART;TZID=Europe/Helsinki:20250315T180000
DTEND;TZID=Europe/Helsinki:20250315T230000
DTSTAMP:20260419T181032
CREATED:20241228T075537Z
LAST-MODIFIED:20241228T075537Z
UID:2621-1742061600-1742079600@www.ravintolapanza.fi
SUMMARY:DJ OK-M
DESCRIPTION:Funkkaa Taikka Kuole DJ:t Panzassa! 100% vinyl. \nVinyylit pyörivät Panzan levylautasella viikonloppuiltaisin klo 18-23 ja tarvittaessa pidempäänkin. Joka viikonloppu vaihtuvat DJ:t tuovat oman musiikkiselektionsa mausteeksi Panzan tunnelmaan.
URL:https://www.ravintolapanza.fi/tapahtuma/dj-ok-m-34/
LOCATION:Ravintola Panza\, Käsityökatu 19\, Kuopio\, 70100\, Suomi
ATTACH;FMTTYPE=image/jpeg:https://www.ravintolapanza.fi/wp-content/uploads/2024/12/PANZA_1_fb.jpg
ORGANIZER;CN="Funkkaa Taikka Kuole":MAILTO:info@funkkaataikkakuole.com
END:VEVENT
BEGIN:VEVENT
DTSTART;TZID=Europe/Helsinki:20250314T180000
DTEND;TZID=Europe/Helsinki:20250314T230000
DTSTAMP:20260419T181032
CREATED:20241228T075509Z
LAST-MODIFIED:20241228T075509Z
UID:2619-1741975200-1741993200@www.ravintolapanza.fi
SUMMARY:DJ OK-M
DESCRIPTION:Funkkaa Taikka Kuole DJ:t Panzassa! 100% vinyl. \nVinyylit pyörivät Panzan levylautasella viikonloppuiltaisin klo 18-23 ja tarvittaessa pidempäänkin. Joka viikonloppu vaihtuvat DJ:t tuovat oman musiikkiselektionsa mausteeksi Panzan tunnelmaan.
URL:https://www.ravintolapanza.fi/tapahtuma/dj-ok-m-33/
LOCATION:Ravintola Panza\, Käsityökatu 19\, Kuopio\, 70100\, Suomi
ATTACH;FMTTYPE=image/jpeg:https://www.ravintolapanza.fi/wp-content/uploads/2024/12/PANZA_1_fb.jpg
ORGANIZER;CN="Funkkaa Taikka Kuole":MAILTO:info@funkkaataikkakuole.com
END:VEVENT
BEGIN:VEVENT
DTSTART;TZID=Europe/Helsinki:20250314T110000
DTEND;TZID=Europe/Helsinki:20250314T133000
DTSTAMP:20260419T181032
CREATED:20250218T095404Z
LAST-MODIFIED:20250219T102607Z
UID:2676-1741950000-1741959000@www.ravintolapanza.fi
SUMMARY:Panzan tortilla buffa -lounas
DESCRIPTION:Tortilla buffat taas tarjolla:\nPe 28.2. | Pe 14.3. | PE 21.3. \nSisältää lihan\, vegen\, salaattipöydän sekä tortillat\, jotka voit\nkasata itse buffetpöydästämme. Myös pieni jälkkäri ja kahvi tai tee. \nLounas klo 11-13:30\, hinta 15€ \nALL YOU CAN ROLL!
URL:https://www.ravintolapanza.fi/tapahtuma/panzan-tortilla-buffa-lounas-8/
LOCATION:Ravintola Panza\, Käsityökatu 19\, Kuopio\, 70100\, Suomi
ATTACH;FMTTYPE=image/jpeg:https://www.ravintolapanza.fi/wp-content/uploads/2025/02/PANZA_1_fb_buffa3.jpg
ORGANIZER;CN="Panza":MAILTO:info@ravintolapanza.fi
END:VEVENT
BEGIN:VEVENT
DTSTART;TZID=Europe/Helsinki:20250308T180000
DTEND;TZID=Europe/Helsinki:20250308T230000
DTSTAMP:20260419T181032
CREATED:20241228T075437Z
LAST-MODIFIED:20241228T075437Z
UID:2617-1741456800-1741474800@www.ravintolapanza.fi
SUMMARY:DJ KK
DESCRIPTION:Funkkaa Taikka Kuole DJ:t Panzassa! 100% vinyl. \nVinyylit pyörivät Panzan levylautasella viikonloppuiltaisin klo 18-23 ja tarvittaessa pidempäänkin. Joka viikonloppu vaihtuvat DJ:t tuovat oman musiikkiselektionsa mausteeksi Panzan tunnelmaan.
URL:https://www.ravintolapanza.fi/tapahtuma/dj-kk-9/
LOCATION:Ravintola Panza\, Käsityökatu 19\, Kuopio\, 70100\, Suomi
ATTACH;FMTTYPE=image/jpeg:https://www.ravintolapanza.fi/wp-content/uploads/2024/12/PANZA_1_fb.jpg
ORGANIZER;CN="Funkkaa Taikka Kuole":MAILTO:info@funkkaataikkakuole.com
END:VEVENT
BEGIN:VEVENT
DTSTART;TZID=Europe/Helsinki:20250307T180000
DTEND;TZID=Europe/Helsinki:20250307T230000
DTSTAMP:20260419T181032
CREATED:20241228T075415Z
LAST-MODIFIED:20241228T075415Z
UID:2615-1741370400-1741388400@www.ravintolapanza.fi
SUMMARY:DJ KK
DESCRIPTION:Funkkaa Taikka Kuole DJ:t Panzassa! 100% vinyl. \nVinyylit pyörivät Panzan levylautasella viikonloppuiltaisin klo 18-23 ja tarvittaessa pidempäänkin. Joka viikonloppu vaihtuvat DJ:t tuovat oman musiikkiselektionsa mausteeksi Panzan tunnelmaan.
URL:https://www.ravintolapanza.fi/tapahtuma/dj-kk-8/
LOCATION:Ravintola Panza\, Käsityökatu 19\, Kuopio\, 70100\, Suomi
ATTACH;FMTTYPE=image/jpeg:https://www.ravintolapanza.fi/wp-content/uploads/2024/12/PANZA_1_fb.jpg
ORGANIZER;CN="Funkkaa Taikka Kuole":MAILTO:info@funkkaataikkakuole.com
END:VEVENT
BEGIN:VEVENT
DTSTART;TZID=Europe/Helsinki:20250301T180000
DTEND;TZID=Europe/Helsinki:20250301T230000
DTSTAMP:20260419T181032
CREATED:20241228T075337Z
LAST-MODIFIED:20241228T075337Z
UID:2613-1740852000-1740870000@www.ravintolapanza.fi
SUMMARY:DJ Juicy L
DESCRIPTION:Funkkaa Taikka Kuole DJ:t Panzassa! 100% vinyl. \nVinyylit pyörivät Panzan levylautasella viikonloppuiltaisin klo 18-23 ja tarvittaessa pidempäänkin. Joka viikonloppu vaihtuvat DJ:t tuovat oman musiikkiselektionsa mausteeksi Panzan tunnelmaan.
URL:https://www.ravintolapanza.fi/tapahtuma/dj-juicy-l-16/
LOCATION:Ravintola Panza\, Käsityökatu 19\, Kuopio\, 70100\, Suomi
ATTACH;FMTTYPE=image/jpeg:https://www.ravintolapanza.fi/wp-content/uploads/2024/12/PANZA_1_fb.jpg
ORGANIZER;CN="Funkkaa Taikka Kuole":MAILTO:info@funkkaataikkakuole.com
END:VEVENT
BEGIN:VEVENT
DTSTART;TZID=Europe/Helsinki:20250228T180000
DTEND;TZID=Europe/Helsinki:20250228T230000
DTSTAMP:20260419T181032
CREATED:20241228T075315Z
LAST-MODIFIED:20241228T075315Z
UID:2611-1740765600-1740783600@www.ravintolapanza.fi
SUMMARY:DJ Juicy L
DESCRIPTION:Funkkaa Taikka Kuole DJ:t Panzassa! 100% vinyl. \nVinyylit pyörivät Panzan levylautasella viikonloppuiltaisin klo 18-23 ja tarvittaessa pidempäänkin. Joka viikonloppu vaihtuvat DJ:t tuovat oman musiikkiselektionsa mausteeksi Panzan tunnelmaan.
URL:https://www.ravintolapanza.fi/tapahtuma/dj-juicy-l-15/
LOCATION:Ravintola Panza\, Käsityökatu 19\, Kuopio\, 70100\, Suomi
ATTACH;FMTTYPE=image/jpeg:https://www.ravintolapanza.fi/wp-content/uploads/2024/12/PANZA_1_fb.jpg
ORGANIZER;CN="Funkkaa Taikka Kuole":MAILTO:info@funkkaataikkakuole.com
END:VEVENT
END:VCALENDAR